BEGIN:VCALENDAR
VERSION:2.0
PRODID:-//Students&#039; Union, UCalgary - ECPv6.15.17.1//NONSGML v1.0//EN
CALSCALE:GREGORIAN
METHOD:PUBLISH
X-WR-CALNAME:Students&#039; Union, UCalgary
X-ORIGINAL-URL:https://su.ucalgary.ca
X-WR-CALDESC:Events for Students&#039; Union, UCalgary
REFRESH-INTERVAL;VALUE=DURATION:PT1H
X-Robots-Tag:noindex
X-PUBLISHED-TTL:PT1H
BEGIN:VTIMEZONE
TZID:America/Edmonton
BEGIN:DAYLIGHT
TZOFFSETFROM:-0700
TZOFFSETTO:-0600
TZNAME:MDT
DTSTART:20200308T090000
END:DAYLIGHT
BEGIN:STANDARD
TZOFFSETFROM:-0600
TZOFFSETTO:-0700
TZNAME:MST
DTSTART:20201101T080000
END:STANDARD
BEGIN:DAYLIGHT
TZOFFSETFROM:-0700
TZOFFSETTO:-0600
TZNAME:MDT
DTSTART:20210314T090000
END:DAYLIGHT
BEGIN:STANDARD
TZOFFSETFROM:-0600
TZOFFSETTO:-0700
TZNAME:MST
DTSTART:20211107T080000
END:STANDARD
BEGIN:DAYLIGHT
TZOFFSETFROM:-0700
TZOFFSETTO:-0600
TZNAME:MDT
DTSTART:20220313T090000
END:DAYLIGHT
BEGIN:STANDARD
TZOFFSETFROM:-0600
TZOFFSETTO:-0700
TZNAME:MST
DTSTART:20221106T080000
END:STANDARD
END:VTIMEZONE
BEGIN:VEVENT
DTSTART;TZID=America/Edmonton:20210223T120000
DTEND;TZID=America/Edmonton:20210223T130000
DTSTAMP:20260420T192129
CREATED:20210208T065001Z
LAST-MODIFIED:20210222T042659Z
UID:10000370-1614081600-1614085200@su.ucalgary.ca
SUMMARY:VP Operations and Finance Forum
DESCRIPTION:Hosted by the SU: Panel-based question/answer for VP Operations and Finance Candidates. Audience questions will be taken as time permits. \nWill be livestreamed on the SU Facebook channel: https://www.facebook.com/suuofc/live
URL:https://su.ucalgary.ca/calendar/vp-operations-and-finance-forum/
LOCATION:Virtual Space\, Online
CATEGORIES:Elections,SU
ATTACH;FMTTYPE=image/jpeg:https://su.ucalgary.ca/wp-content/uploads/MakeYourMark-Hero.jpg
ORGANIZER;CN="Students' Union":MAILTO:reception@su.ucalgary.ca
END:VEVENT
BEGIN:VEVENT
DTSTART;TZID=America/Edmonton:20210223T150000
DTEND;TZID=America/Edmonton:20210223T160000
DTSTAMP:20260420T192129
CREATED:20210208T065342Z
LAST-MODIFIED:20210208T234328Z
UID:10000369-1614092400-1614096000@su.ucalgary.ca
SUMMARY:Faculty of Arts Candidates Forum
DESCRIPTION:Hosted by FASA and the SU Arts Representatives: forum\, question-based. \nRegister via Zoom: https://ucalgary.zoom.us/meeting/register/tJ0udOqoqj8tHdVuSFwwcVrjiw3eNrVzbSPN
URL:https://su.ucalgary.ca/calendar/faculty-of-arts-candidates-forum/
CATEGORIES:Elections,SU
ATTACH;FMTTYPE=image/jpeg:https://su.ucalgary.ca/wp-content/uploads/MakeYourMark-Hero.jpg
END:VEVENT
END:VCALENDAR