BEGIN:VCALENDAR
VERSION:2.0
PRODID:-//Students&#039; Union, UCalgary - ECPv6.15.17.1//NONSGML v1.0//EN
CALSCALE:GREGORIAN
METHOD:PUBLISH
X-WR-CALNAME:Students&#039; Union, UCalgary
X-ORIGINAL-URL:https://su.ucalgary.ca
X-WR-CALDESC:Events for Students&#039; Union, UCalgary
REFRESH-INTERVAL;VALUE=DURATION:PT1H
X-Robots-Tag:noindex
X-PUBLISHED-TTL:PT1H
BEGIN:VTIMEZONE
TZID:America/Edmonton
BEGIN:DAYLIGHT
TZOFFSETFROM:-0700
TZOFFSETTO:-0600
TZNAME:MDT
DTSTART:20200308T090000
END:DAYLIGHT
BEGIN:STANDARD
TZOFFSETFROM:-0600
TZOFFSETTO:-0700
TZNAME:MST
DTSTART:20201101T080000
END:STANDARD
BEGIN:DAYLIGHT
TZOFFSETFROM:-0700
TZOFFSETTO:-0600
TZNAME:MDT
DTSTART:20210314T090000
END:DAYLIGHT
BEGIN:STANDARD
TZOFFSETFROM:-0600
TZOFFSETTO:-0700
TZNAME:MST
DTSTART:20211107T080000
END:STANDARD
BEGIN:DAYLIGHT
TZOFFSETFROM:-0700
TZOFFSETTO:-0600
TZNAME:MDT
DTSTART:20220313T090000
END:DAYLIGHT
BEGIN:STANDARD
TZOFFSETFROM:-0600
TZOFFSETTO:-0700
TZNAME:MST
DTSTART:20221106T080000
END:STANDARD
END:VTIMEZONE
BEGIN:VEVENT
DTSTART;TZID=America/Edmonton:20210226T120000
DTEND;TZID=America/Edmonton:20210226T130000
DTSTAMP:20260425T111712
CREATED:20210208T070342Z
LAST-MODIFIED:20210222T043017Z
UID:10000363-1614340800-1614344400@su.ucalgary.ca
SUMMARY:VP Academic Forum
DESCRIPTION:Hosted by the SU: Panel-based question/answer for VP External Candidates. Audience questions will be taken as time permits. \nThis forum will be livestreamed on the SU Facebook channel: www.facebook.com/suuofc/live
URL:https://su.ucalgary.ca/calendar/vp-academic-forum/
LOCATION:Virtual Space\, Online
CATEGORIES:Elections,SU
ATTACH;FMTTYPE=image/jpeg:https://su.ucalgary.ca/wp-content/uploads/MakeYourMark-Hero.jpg
ORGANIZER;CN="Students' Union":MAILTO:reception@su.ucalgary.ca
END:VEVENT
BEGIN:VEVENT
DTSTART;TZID=America/Edmonton:20210226T170000
DTEND;TZID=America/Edmonton:20210226T180000
DTSTAMP:20260425T111712
CREATED:20210208T070538Z
LAST-MODIFIED:20210217T232342Z
UID:10000361-1614358800-1614362400@su.ucalgary.ca
SUMMARY:Forum for Arts\, Board of Governors\, Senate and Executive Candidates
DESCRIPTION:Hosted by the Students In Communications: Debate or Panel style\, depending on the number of RSVPs. If debating\, questions will be provided in advance. Questions will be sourced from club members. \nRSVP: By Mon Feb 22 at 4:00 pm to Shaziah Jinnah at shaziah.jinnah@ucalgary.ca and include your position and brief platform points. \nThe theme of the forum will be getting to know Candidate’s general platforms\, however issues and concerns from the departments of Communications\, Media and Film will also be brought forward. Participating candidates will receive a preparatory document in advance. Share the forum info through Instagram @studentsincomms or https://www.facebook.com/studentsincoms/
URL:https://su.ucalgary.ca/calendar/forum-for-arts-board-of-governors-senate-and-executive-candidates/
LOCATION:Virtual Space\, Online
ATTACH;FMTTYPE=image/jpeg:https://su.ucalgary.ca/wp-content/uploads/MakeYourMark-Hero.jpg
END:VEVENT
END:VCALENDAR