BEGIN:VCALENDAR
VERSION:2.0
PRODID:-//Students&#039; Union, UCalgary - ECPv6.15.17.1//NONSGML v1.0//EN
CALSCALE:GREGORIAN
METHOD:PUBLISH
X-WR-CALNAME:Students&#039; Union, UCalgary
X-ORIGINAL-URL:https://su.ucalgary.ca
X-WR-CALDESC:Events for Students&#039; Union, UCalgary
REFRESH-INTERVAL;VALUE=DURATION:PT1H
X-Robots-Tag:noindex
X-PUBLISHED-TTL:PT1H
BEGIN:VTIMEZONE
TZID:America/Edmonton
BEGIN:DAYLIGHT
TZOFFSETFROM:-0700
TZOFFSETTO:-0600
TZNAME:MDT
DTSTART:20250309T090000
END:DAYLIGHT
BEGIN:STANDARD
TZOFFSETFROM:-0600
TZOFFSETTO:-0700
TZNAME:MST
DTSTART:20251102T080000
END:STANDARD
BEGIN:DAYLIGHT
TZOFFSETFROM:-0700
TZOFFSETTO:-0600
TZNAME:MDT
DTSTART:20260308T090000
END:DAYLIGHT
BEGIN:STANDARD
TZOFFSETFROM:-0600
TZOFFSETTO:-0700
TZNAME:MST
DTSTART:20261101T080000
END:STANDARD
BEGIN:DAYLIGHT
TZOFFSETFROM:-0700
TZOFFSETTO:-0600
TZNAME:MDT
DTSTART:20270314T090000
END:DAYLIGHT
BEGIN:STANDARD
TZOFFSETFROM:-0600
TZOFFSETTO:-0700
TZNAME:MST
DTSTART:20271107T080000
END:STANDARD
END:VTIMEZONE
BEGIN:VEVENT
DTSTART;VALUE=DATE:20260209
DTEND;VALUE=DATE:20260216
DTSTAMP:20260422T121631
CREATED:20260116T213426Z
LAST-MODIFIED:20260116T213426Z
UID:10003157-1770595200-1771199999@su.ucalgary.ca
SUMMARY:Fines for Food: Pay Your Outstanding Parking Fines
DESCRIPTION:Pay your outstanding parking fines between February 9 and February 15\, 2026 and half of the proceeds will be donated to the SU Campus Food Bank. \nThe Fines for Food program applies to all parking tickets\, regardless of when the fine was issued. \nPay your fines at parking.ucalgary.ca
URL:https://su.ucalgary.ca/calendar/fines-for-food-pay-your-outstanding-parking-fines/
LOCATION:Virtual Space\, Online
CATEGORIES:SU,UCalgary
ORGANIZER;CN="Students' Union":MAILTO:reception@su.ucalgary.ca
END:VEVENT
BEGIN:VEVENT
DTSTART;TZID=America/Edmonton:20260212T120000
DTEND;TZID=America/Edmonton:20260212T130000
DTSTAMP:20260422T121631
CREATED:20260127T162649Z
LAST-MODIFIED:20260127T162649Z
UID:10003165-1770897600-1770901200@su.ucalgary.ca
SUMMARY:SEX WEEK: Menstruation Canon
DESCRIPTION:Join composer and UCalgary Alumni\, Melike Ceylan\, for an intimate and interactive concert blending voice and electronic sound. Menstruation Canon playfully reimagines and maps hormonal changes of the menstrual cycle into layered rhythms and melodies. The event features a live performance\, Q&A\, and interactive opportunities to explore ideas with participants on how taboo topics around menstruation can be normalized and turned into creative works. \nREGISTER FOR THIS EVENT HERE. \nREGISTER \n\nJoin us for Sexual and Gender Wellness Week\, happening all across campus from February 9 to 13! Dive into engaging workshops\, thought-provoking discussions\, and interactive activities that celebrate inclusivity\, health\, and self-discovery. With events in every corner of campus\, there’s something for everyone—come learn\, share\, and celebrate wellness in all its forms. \n 
URL:https://su.ucalgary.ca/calendar/sex-week-menstruation-canon/
LOCATION:Women’s Resource Centre (MSC482)
CATEGORIES:SexWeek,SU
ORGANIZER;CN="Women's Resource Centre":MAILTO:women@ucalgary.ca
END:VEVENT
BEGIN:VEVENT
DTSTART;TZID=America/Edmonton:20260212T130000
DTEND;TZID=America/Edmonton:20260212T150000
DTSTAMP:20260422T121631
CREATED:20260127T162846Z
LAST-MODIFIED:20260127T162920Z
UID:10003166-1770901200-1770908400@su.ucalgary.ca
SUMMARY:SEX WEEK: Queer Art Showcase
DESCRIPTION:The Queer Art Showcase is a celebration of creativity within our community\, now in its third year and quickly becoming a cherished tradition! Artists from across the community will share their work\, including paintings\, drawings\, digital creations\, poetry\, short writings\, crafts\, and many other forms of art. The showcase invites attendees to explore pieces that reflect personal experiences\, cultural influences\, and the many ways queer creativity takes shape. \n\nJoin us for Sexual and Gender Wellness Week\, happening all across campus from February 9 to 13! Dive into engaging workshops\, thought-provoking discussions\, and interactive activities that celebrate inclusivity\, health\, and self-discovery. With events in every corner of campus\, there’s something for everyone—come learn\, share\, and celebrate wellness in all its forms. \n 
URL:https://su.ucalgary.ca/calendar/sex-week-queer-art-showcase-2/
LOCATION:That Empty Space: TES
CATEGORIES:SexWeek,SU
ORGANIZER;CN="The Q Centre":MAILTO:qcentre@ucalgary.ca
END:VEVENT
BEGIN:VEVENT
DTSTART;TZID=America/Edmonton:20260212T150000
DTEND;TZID=America/Edmonton:20260212T190000
DTSTAMP:20260422T121631
CREATED:20260127T163532Z
LAST-MODIFIED:20260127T163532Z
UID:10003167-1770908400-1770922800@su.ucalgary.ca
SUMMARY:SEX WEEK: Feminist Film Festival
DESCRIPTION:Join writer\, director\, and producer Michelle Wong (Studio D\, National Film Board of Canada) for a compelling talk on feminist storytelling and creative impact\, followed by a screening of student-made films exploring sex and gender. \nREGISTER FOR THIS EVENT HERE. \nREGISTER \n\nJoin us for Sexual and Gender Wellness Week\, happening all across campus from February 9 to 13! Dive into engaging workshops\, thought-provoking discussions\, and interactive activities that celebrate inclusivity\, health\, and self-discovery. With events in every corner of campus\, there’s something for everyone—come learn\, share\, and celebrate wellness in all its forms. \n 
URL:https://su.ucalgary.ca/calendar/sex-week-feminist-film-festival/
LOCATION:Women’s Resource Centre (MSC482)
CATEGORIES:SexWeek,SU
ORGANIZER;CN="Women's Resource Centre":MAILTO:women@ucalgary.ca
END:VEVENT
END:VCALENDAR