BEGIN:VCALENDAR
VERSION:2.0
PRODID:-//Students&#039; Union, UCalgary - ECPv6.15.17.1//NONSGML v1.0//EN
CALSCALE:GREGORIAN
METHOD:PUBLISH
X-WR-CALNAME:Students&#039; Union, UCalgary
X-ORIGINAL-URL:https://su.ucalgary.ca
X-WR-CALDESC:Events for Students&#039; Union, UCalgary
REFRESH-INTERVAL;VALUE=DURATION:PT1H
X-Robots-Tag:noindex
X-PUBLISHED-TTL:PT1H
BEGIN:VTIMEZONE
TZID:America/Edmonton
BEGIN:DAYLIGHT
TZOFFSETFROM:-0700
TZOFFSETTO:-0600
TZNAME:MDT
DTSTART:20220313T090000
END:DAYLIGHT
BEGIN:STANDARD
TZOFFSETFROM:-0600
TZOFFSETTO:-0700
TZNAME:MST
DTSTART:20221106T080000
END:STANDARD
BEGIN:DAYLIGHT
TZOFFSETFROM:-0700
TZOFFSETTO:-0600
TZNAME:MDT
DTSTART:20230312T090000
END:DAYLIGHT
BEGIN:STANDARD
TZOFFSETFROM:-0600
TZOFFSETTO:-0700
TZNAME:MST
DTSTART:20231105T080000
END:STANDARD
BEGIN:DAYLIGHT
TZOFFSETFROM:-0700
TZOFFSETTO:-0600
TZNAME:MDT
DTSTART:20240310T090000
END:DAYLIGHT
BEGIN:STANDARD
TZOFFSETFROM:-0600
TZOFFSETTO:-0700
TZNAME:MST
DTSTART:20241103T080000
END:STANDARD
END:VTIMEZONE
BEGIN:VEVENT
DTSTART;TZID=America/Edmonton:20230911T080000
DTEND;TZID=America/Edmonton:20230911T170000
DTSTAMP:20260421T214658
CREATED:20230825T221628Z
LAST-MODIFIED:20230911T151219Z
UID:10000667-1694419200-1694451600@su.ucalgary.ca
SUMMARY:Notice of Nominations + Nomination Packages
DESCRIPTION:
URL:https://su.ucalgary.ca/calendar/notice-of-nominations-nomination-packages/
LOCATION:2500 University Drive NW\, Calgary\, Alberta\, T2N1N4\, Canada
CATEGORIES:Elections
ORGANIZER;CN="Students' Union":MAILTO:reception@su.ucalgary.ca
END:VEVENT
BEGIN:VEVENT
DTSTART;TZID=America/Edmonton:20230918T150000
DTEND;TZID=America/Edmonton:20230918T163000
DTSTAMP:20260421T214658
CREATED:20230911T154729Z
LAST-MODIFIED:20230911T154729Z
UID:10000698-1695049200-1695054600@su.ucalgary.ca
SUMMARY:By-Election pre-orientation session
DESCRIPTION:Join Zoom Meeting : \nhttps://ucalgary.zoom.us/j/96445433465?pwd=Kzh6V2FKei9FMTdOcE85STg4cndiZz09&from=addon \nMeeting ID: 964 4543 3465 \nPasscode: 105422 \nContact elections@su.ucalgary.ca with any election-related questions
URL:https://su.ucalgary.ca/calendar/by-election-pre-orientation-session/
LOCATION:2500 University Drive NW\, Calgary\, Alberta\, T2N1N4\, Canada
CATEGORIES:Elections
ORGANIZER;CN="Students' Union":MAILTO:reception@su.ucalgary.ca
END:VEVENT
BEGIN:VEVENT
DTSTART;TZID=America/Edmonton:20230925T100000
DTEND;TZID=America/Edmonton:20230925T150000
DTSTAMP:20260421T214658
CREATED:20230907T195004Z
LAST-MODIFIED:20230911T151228Z
UID:10000676-1695636000-1695654000@su.ucalgary.ca
SUMMARY:Nomination Days
DESCRIPTION:Nomination Days will be held from Sept 25 to 27\, from 10 am to 3 pm each day. This nomination procedure includes a detailed nomination package that can be accessed online or by visiting the SU office (MSC 251). Before deciding to run you should also consult our SU Election Documents section section on this site as well as the Position Descriptions page.
URL:https://su.ucalgary.ca/calendar/nomination-days/2023-09-25/
LOCATION:2500 University Drive NW\, Calgary\, Alberta\, T2N1N4\, Canada
CATEGORIES:Elections
ORGANIZER;CN="Students' Union":MAILTO:reception@su.ucalgary.ca
END:VEVENT
BEGIN:VEVENT
DTSTART;TZID=America/Edmonton:20230926T100000
DTEND;TZID=America/Edmonton:20230926T150000
DTSTAMP:20260421T214658
CREATED:20230907T195004Z
LAST-MODIFIED:20230911T151228Z
UID:10000677-1695722400-1695740400@su.ucalgary.ca
SUMMARY:Nomination Days
DESCRIPTION:Nomination Days will be held from Sept 25 to 27\, from 10 am to 3 pm each day. This nomination procedure includes a detailed nomination package that can be accessed online or by visiting the SU office (MSC 251). Before deciding to run you should also consult our SU Election Documents section section on this site as well as the Position Descriptions page.
URL:https://su.ucalgary.ca/calendar/nomination-days/2023-09-26/
LOCATION:2500 University Drive NW\, Calgary\, Alberta\, T2N1N4\, Canada
CATEGORIES:Elections
ORGANIZER;CN="Students' Union":MAILTO:reception@su.ucalgary.ca
END:VEVENT
BEGIN:VEVENT
DTSTART;TZID=America/Edmonton:20230927T100000
DTEND;TZID=America/Edmonton:20230927T150000
DTSTAMP:20260421T214658
CREATED:20230907T195004Z
LAST-MODIFIED:20230911T151228Z
UID:10000678-1695808800-1695826800@su.ucalgary.ca
SUMMARY:Nomination Days
DESCRIPTION:Nomination Days will be held from Sept 25 to 27\, from 10 am to 3 pm each day. This nomination procedure includes a detailed nomination package that can be accessed online or by visiting the SU office (MSC 251). Before deciding to run you should also consult our SU Election Documents section section on this site as well as the Position Descriptions page.
URL:https://su.ucalgary.ca/calendar/nomination-days/2023-09-27/
LOCATION:2500 University Drive NW\, Calgary\, Alberta\, T2N1N4\, Canada
CATEGORIES:Elections
ORGANIZER;CN="Students' Union":MAILTO:reception@su.ucalgary.ca
END:VEVENT
END:VCALENDAR