BEGIN:VCALENDAR
VERSION:2.0
PRODID:-//Students&#039; Union, UCalgary - ECPv6.15.17.1//NONSGML v1.0//EN
CALSCALE:GREGORIAN
METHOD:PUBLISH
X-WR-CALNAME:Students&#039; Union, UCalgary
X-ORIGINAL-URL:https://su.ucalgary.ca
X-WR-CALDESC:Events for Students&#039; Union, UCalgary
REFRESH-INTERVAL;VALUE=DURATION:PT1H
X-Robots-Tag:noindex
X-PUBLISHED-TTL:PT1H
BEGIN:VTIMEZONE
TZID:America/Edmonton
BEGIN:DAYLIGHT
TZOFFSETFROM:-0700
TZOFFSETTO:-0600
TZNAME:MDT
DTSTART:20210314T090000
END:DAYLIGHT
BEGIN:STANDARD
TZOFFSETFROM:-0600
TZOFFSETTO:-0700
TZNAME:MST
DTSTART:20211107T080000
END:STANDARD
BEGIN:DAYLIGHT
TZOFFSETFROM:-0700
TZOFFSETTO:-0600
TZNAME:MDT
DTSTART:20220313T090000
END:DAYLIGHT
BEGIN:STANDARD
TZOFFSETFROM:-0600
TZOFFSETTO:-0700
TZNAME:MST
DTSTART:20221106T080000
END:STANDARD
BEGIN:DAYLIGHT
TZOFFSETFROM:-0700
TZOFFSETTO:-0600
TZNAME:MDT
DTSTART:20230312T090000
END:DAYLIGHT
BEGIN:STANDARD
TZOFFSETFROM:-0600
TZOFFSETTO:-0700
TZNAME:MST
DTSTART:20231105T080000
END:STANDARD
END:VTIMEZONE
BEGIN:VEVENT
DTSTART;TZID=America/Edmonton:20220902T133000
DTEND;TZID=America/Edmonton:20220902T163000
DTSTAMP:20260420T183546
CREATED:20220907T150127Z
LAST-MODIFIED:20220907T150127Z
UID:10000544-1662125400-1662136200@su.ucalgary.ca
SUMMARY:Women's Rugby vs Lethbridge
DESCRIPTION:Women’s Rugby vs Lethbridge Calgary
URL:https://su.ucalgary.ca/calendar/womens-rugby-vs-lethbridge/
CATEGORIES:Dinos Athletics
END:VEVENT
BEGIN:VEVENT
DTSTART;TZID=America/Edmonton:20220902T173000
DTEND;TZID=America/Edmonton:20220902T203000
DTSTAMP:20260420T183546
CREATED:20220907T150127Z
LAST-MODIFIED:20220907T150127Z
UID:10000543-1662139800-1662150600@su.ucalgary.ca
SUMMARY:Football vs Saskatchewan
DESCRIPTION:Football vs Saskatchewan Calgary
URL:https://su.ucalgary.ca/calendar/football-vs-saskatchewan/
CATEGORIES:Dinos Athletics
END:VEVENT
BEGIN:VEVENT
DTSTART;TZID=America/Edmonton:20220903T160000
DTEND;TZID=America/Edmonton:20220903T190000
DTSTAMP:20260420T183546
CREATED:20220907T150128Z
LAST-MODIFIED:20220907T150128Z
UID:10000542-1662220800-1662231600@su.ucalgary.ca
SUMMARY:Men's Soccer at Mount Royal
DESCRIPTION:Men’s Soccer at Mount Royal Calgary
URL:https://su.ucalgary.ca/calendar/mens-soccer-at-mount-royal/
CATEGORIES:Dinos Athletics
END:VEVENT
BEGIN:VEVENT
DTSTART;TZID=America/Edmonton:20220906T110000
DTEND;TZID=America/Edmonton:20220906T150000
DTSTAMP:20260420T183546
CREATED:20220829T173425Z
LAST-MODIFIED:20220829T173425Z
UID:10000450-1662462000-1662476400@su.ucalgary.ca
SUMMARY:Welcome Fair
DESCRIPTION:You won’t want to miss the 2022 Welcome Fair held in the MacEwan Student Centre North and South Courtyards on the first two days of classes. Win Prizes\, meet new people and learn about all sorts campus resources and programs.
URL:https://su.ucalgary.ca/calendar/welcome-fair/2022-09-06/
LOCATION:North Courtyard: MSC
CATEGORIES:SU
ORGANIZER;CN="Students' Union":MAILTO:reception@su.ucalgary.ca
END:VEVENT
BEGIN:VEVENT
DTSTART;TZID=America/Edmonton:20220906T123000
DTEND;TZID=America/Edmonton:20220906T133000
DTSTAMP:20260420T183546
CREATED:20220829T174217Z
LAST-MODIFIED:20220829T174305Z
UID:10000438-1662467400-1662471000@su.ucalgary.ca
SUMMARY:Mind & Body in the SPACE!
DESCRIPTION:Join us for Mind and Body in the Space! Starting September 6\, head to a yoga or meditation class where you’ll improve strength\, practice breathing techniques and relax in between classes. \nEvery Tuesday and Thursday! \nTuesdays – MEDITATION\, Thursdays – YOGA \nThat Empty Space is located on the lower level of MacEwan Student Centre\, next to Subway.
URL:https://su.ucalgary.ca/calendar/mind-body-in-the-space/2022-09-06/
LOCATION:That Empty Space: TES
CATEGORIES:SU
ORGANIZER;CN="Students' Union":MAILTO:reception@su.ucalgary.ca
END:VEVENT
BEGIN:VEVENT
DTSTART;TZID=America/Edmonton:20220907T110000
DTEND;TZID=America/Edmonton:20220907T150000
DTSTAMP:20260420T183546
CREATED:20220829T173425Z
LAST-MODIFIED:20220829T173425Z
UID:10000451-1662548400-1662562800@su.ucalgary.ca
SUMMARY:Welcome Fair
DESCRIPTION:You won’t want to miss the 2022 Welcome Fair held in the MacEwan Student Centre North and South Courtyards on the first two days of classes. Win Prizes\, meet new people and learn about all sorts campus resources and programs.
URL:https://su.ucalgary.ca/calendar/welcome-fair/2022-09-07/
LOCATION:North Courtyard: MSC
CATEGORIES:SU
ORGANIZER;CN="Students' Union":MAILTO:reception@su.ucalgary.ca
END:VEVENT
BEGIN:VEVENT
DTSTART;TZID=America/Edmonton:20220908T123000
DTEND;TZID=America/Edmonton:20220908T133000
DTSTAMP:20260420T183546
CREATED:20220829T174653Z
LAST-MODIFIED:20220829T174653Z
UID:10000426-1662640200-1662643800@su.ucalgary.ca
SUMMARY:Mind & Body in the SPACE!
DESCRIPTION:Join us for Mind and Body in the Space! Starting September 6\, head to a yoga or meditation class where you’ll improve strength\, practice breathing techniques and relax in between classes. \nEvery Tuesday: Meditation and Thursday: Yoga! \nThat Empty Space is located on the lower level of MacEwan Student Centre\, next to Subway.
URL:https://su.ucalgary.ca/calendar/mind-body-in-the-space-2/2022-09-08/
LOCATION:That Empty Space: TES
CATEGORIES:SU
ORGANIZER;CN="Students' Union":MAILTO:reception@su.ucalgary.ca
END:VEVENT
BEGIN:VEVENT
DTSTART;TZID=America/Edmonton:20220909T180000
DTEND;TZID=America/Edmonton:20220909T210000
DTSTAMP:20260420T183546
CREATED:20220907T150130Z
LAST-MODIFIED:20220907T150130Z
UID:10000541-1662746400-1662757200@su.ucalgary.ca
SUMMARY:Women's Soccer vs Manitoba
DESCRIPTION:Women’s Soccer vs Manitoba Calgary
URL:https://su.ucalgary.ca/calendar/womens-soccer-vs-manitoba/
CATEGORIES:Dinos Athletics
END:VEVENT
BEGIN:VEVENT
DTSTART;TZID=America/Edmonton:20220910T110000
DTEND;TZID=America/Edmonton:20220910T140000
DTSTAMP:20260420T183546
CREATED:20220907T150131Z
LAST-MODIFIED:20220907T150131Z
UID:10000540-1662807600-1662818400@su.ucalgary.ca
SUMMARY:Field Hockey vs Victoria
DESCRIPTION:Field Hockey vs Victoria Calgary
URL:https://su.ucalgary.ca/calendar/field-hockey-vs-victoria/
CATEGORIES:Dinos Athletics
END:VEVENT
BEGIN:VEVENT
DTSTART;TZID=America/Edmonton:20220910T141500
DTEND;TZID=America/Edmonton:20220910T171500
DTSTAMP:20260420T183546
CREATED:20220907T150131Z
LAST-MODIFIED:20220907T150131Z
UID:10000539-1662819300-1662830100@su.ucalgary.ca
SUMMARY:Men's Soccer vs Saskatchewan
DESCRIPTION:Men’s Soccer vs Saskatchewan Calgary
URL:https://su.ucalgary.ca/calendar/mens-soccer-vs-saskatchewan/
CATEGORIES:Dinos Athletics
END:VEVENT
BEGIN:VEVENT
DTSTART;TZID=America/Edmonton:20220910T190000
DTEND;TZID=America/Edmonton:20220910T220000
DTSTAMP:20260420T183546
CREATED:20220907T150131Z
LAST-MODIFIED:20220907T150131Z
UID:10000518-1662836400-1662847200@su.ucalgary.ca
SUMMARY:Men's Hockey vs Alberta
DESCRIPTION:Men’s Hockey vs Alberta Calgary
URL:https://su.ucalgary.ca/calendar/mens-hockey-vs-alberta/
CATEGORIES:Dinos Athletics
END:VEVENT
BEGIN:VEVENT
DTSTART;TZID=America/Edmonton:20220911T110000
DTEND;TZID=America/Edmonton:20220911T140000
DTSTAMP:20260420T183546
CREATED:20220907T150131Z
LAST-MODIFIED:20220907T150131Z
UID:10000537-1662894000-1662904800@su.ucalgary.ca
SUMMARY:Field Hockey vs Victoria
DESCRIPTION:Field Hockey vs Victoria Calgary
URL:https://su.ucalgary.ca/calendar/field-hockey-vs-victoria-2/
CATEGORIES:Dinos Athletics
END:VEVENT
BEGIN:VEVENT
DTSTART;TZID=America/Edmonton:20220911T120000
DTEND;TZID=America/Edmonton:20220911T150000
DTSTAMP:20260420T183546
CREATED:20220907T150230Z
LAST-MODIFIED:20220907T150230Z
UID:10000536-1662897600-1662908400@su.ucalgary.ca
SUMMARY:Women's Soccer vs Winnipeg
DESCRIPTION:Women’s Soccer vs Winnipeg Calgary
URL:https://su.ucalgary.ca/calendar/womens-soccer-vs-winnipeg/
CATEGORIES:Dinos Athletics
END:VEVENT
BEGIN:VEVENT
DTSTART;TZID=America/Edmonton:20220911T141500
DTEND;TZID=America/Edmonton:20220911T171500
DTSTAMP:20260420T183546
CREATED:20220907T150231Z
LAST-MODIFIED:20220907T150231Z
UID:10000535-1662905700-1662916500@su.ucalgary.ca
SUMMARY:Men's Soccer vs Lethbridge
DESCRIPTION:Men’s Soccer vs Lethbridge Calgary
URL:https://su.ucalgary.ca/calendar/mens-soccer-vs-lethbridge/
CATEGORIES:Dinos Athletics
END:VEVENT
BEGIN:VEVENT
DTSTART;TZID=America/Edmonton:20220913T123000
DTEND;TZID=America/Edmonton:20220913T133000
DTSTAMP:20260420T183546
CREATED:20220829T174217Z
LAST-MODIFIED:20220829T174305Z
UID:10000439-1663072200-1663075800@su.ucalgary.ca
SUMMARY:Mind & Body in the SPACE!
DESCRIPTION:Join us for Mind and Body in the Space! Starting September 6\, head to a yoga or meditation class where you’ll improve strength\, practice breathing techniques and relax in between classes. \nEvery Tuesday and Thursday! \nTuesdays – MEDITATION\, Thursdays – YOGA \nThat Empty Space is located on the lower level of MacEwan Student Centre\, next to Subway.
URL:https://su.ucalgary.ca/calendar/mind-body-in-the-space/2022-09-13/
LOCATION:That Empty Space: TES
CATEGORIES:SU
ORGANIZER;CN="Students' Union":MAILTO:reception@su.ucalgary.ca
END:VEVENT
BEGIN:VEVENT
DTSTART;TZID=America/Edmonton:20220915T123000
DTEND;TZID=America/Edmonton:20220915T133000
DTSTAMP:20260420T183546
CREATED:20220829T174653Z
LAST-MODIFIED:20220829T174653Z
UID:10000427-1663245000-1663248600@su.ucalgary.ca
SUMMARY:Mind & Body in the SPACE!
DESCRIPTION:Join us for Mind and Body in the Space! Starting September 6\, head to a yoga or meditation class where you’ll improve strength\, practice breathing techniques and relax in between classes. \nEvery Tuesday: Meditation and Thursday: Yoga! \nThat Empty Space is located on the lower level of MacEwan Student Centre\, next to Subway.
URL:https://su.ucalgary.ca/calendar/mind-body-in-the-space-2/2022-09-15/
LOCATION:That Empty Space: TES
CATEGORIES:SU
ORGANIZER;CN="Students' Union":MAILTO:reception@su.ucalgary.ca
END:VEVENT
BEGIN:VEVENT
DTSTART;TZID=America/Edmonton:20220915T180000
DTEND;TZID=America/Edmonton:20220915T210000
DTSTAMP:20260420T183546
CREATED:20220907T150231Z
LAST-MODIFIED:20220907T150231Z
UID:10000534-1663264800-1663275600@su.ucalgary.ca
SUMMARY:Women's Hockey vs Mount Royal
DESCRIPTION:Women’s Hockey vs Mount Royal Calgary
URL:https://su.ucalgary.ca/calendar/womens-hockey-vs-mount-royal/
CATEGORIES:Dinos Athletics
END:VEVENT
BEGIN:VEVENT
DTSTART;TZID=America/Edmonton:20220916T180000
DTEND;TZID=America/Edmonton:20220916T210000
DTSTAMP:20260420T183546
CREATED:20220907T150231Z
LAST-MODIFIED:20220907T150231Z
UID:10000533-1663351200-1663362000@su.ucalgary.ca
SUMMARY:Football vs Alberta
DESCRIPTION:Football vs Alberta Calgary
URL:https://su.ucalgary.ca/calendar/football-vs-alberta/
CATEGORIES:Dinos Athletics
END:VEVENT
BEGIN:VEVENT
DTSTART;TZID=America/Edmonton:20220916T190000
DTEND;TZID=America/Edmonton:20220916T220000
DTSTAMP:20260420T183546
CREATED:20220907T150430Z
LAST-MODIFIED:20220907T150430Z
UID:10000530-1663354800-1663365600@su.ucalgary.ca
SUMMARY:Men's Hockey vs Mount Royal
DESCRIPTION:Men’s Hockey vs Mount Royal Calgary
URL:https://su.ucalgary.ca/calendar/mens-hockey-vs-mount-royal/
CATEGORIES:Dinos Athletics
END:VEVENT
BEGIN:VEVENT
DTSTART;TZID=America/Edmonton:20220916T190000
DTEND;TZID=America/Edmonton:20220916T220000
DTSTAMP:20260420T183546
CREATED:20220907T150231Z
LAST-MODIFIED:20220907T150231Z
UID:10000532-1663354800-1663365600@su.ucalgary.ca
SUMMARY:Women's Hockey at Mount Royal
DESCRIPTION:Women’s Hockey at Mount Royal Calgary
URL:https://su.ucalgary.ca/calendar/womens-hockey-at-mount-royal/
CATEGORIES:Dinos Athletics
END:VEVENT
BEGIN:VEVENT
DTSTART;TZID=America/Edmonton:20220917T110000
DTEND;TZID=America/Edmonton:20220917T140000
DTSTAMP:20260420T183546
CREATED:20220907T150431Z
LAST-MODIFIED:20220907T150431Z
UID:10000528-1663412400-1663423200@su.ucalgary.ca
SUMMARY:Field Hockey vs UBC
DESCRIPTION:Field Hockey vs UBC Calgary
URL:https://su.ucalgary.ca/calendar/field-hockey-vs-ubc/
CATEGORIES:Dinos Athletics
END:VEVENT
BEGIN:VEVENT
DTSTART;TZID=America/Edmonton:20220917T130000
DTEND;TZID=America/Edmonton:20220917T160000
DTSTAMP:20260420T183546
CREATED:20220907T150431Z
LAST-MODIFIED:20220907T150431Z
UID:10000526-1663419600-1663430400@su.ucalgary.ca
SUMMARY:Men's Soccer vs Fraser Valley
DESCRIPTION:Men’s Soccer vs Fraser Valley Calgary
URL:https://su.ucalgary.ca/calendar/mens-soccer-vs-fraser-valley/
CATEGORIES:Dinos Athletics
END:VEVENT
BEGIN:VEVENT
DTSTART;TZID=America/Edmonton:20220917T190000
DTEND;TZID=America/Edmonton:20220917T220000
DTSTAMP:20260420T183546
CREATED:20220907T154830Z
LAST-MODIFIED:20220907T154830Z
UID:10000608-1663441200-1663452000@su.ucalgary.ca
SUMMARY:Men's Hockey at Mount Royal
DESCRIPTION:Men’s Hockey at Mount Royal Calgary\, Alta.
URL:https://su.ucalgary.ca/calendar/mens-hockey-at-mount-royal-3/
CATEGORIES:Dinos Athletics
END:VEVENT
BEGIN:VEVENT
DTSTART;TZID=America/Edmonton:20220917T193000
DTEND;TZID=America/Edmonton:20220917T223000
DTSTAMP:20260420T183546
CREATED:20220907T150431Z
LAST-MODIFIED:20220907T150431Z
UID:10000524-1663443000-1663453800@su.ucalgary.ca
SUMMARY:Women's Basketball vs Lakeland
DESCRIPTION:Women’s Basketball vs Lakeland Calgary
URL:https://su.ucalgary.ca/calendar/womens-basketball-vs-lakeland/
CATEGORIES:Dinos Athletics
END:VEVENT
BEGIN:VEVENT
DTSTART;TZID=America/Edmonton:20220918T110000
DTEND;TZID=America/Edmonton:20220918T140000
DTSTAMP:20260420T183546
CREATED:20220907T150431Z
LAST-MODIFIED:20220907T150431Z
UID:10000522-1663498800-1663509600@su.ucalgary.ca
SUMMARY:Field Hockey vs UBC
DESCRIPTION:Field Hockey vs UBC Calgary
URL:https://su.ucalgary.ca/calendar/field-hockey-vs-ubc-2/
CATEGORIES:Dinos Athletics
END:VEVENT
BEGIN:VEVENT
DTSTART;TZID=America/Edmonton:20220918T141500
DTEND;TZID=America/Edmonton:20220918T171500
DTSTAMP:20260420T183546
CREATED:20220907T150630Z
LAST-MODIFIED:20220907T150630Z
UID:10000520-1663510500-1663521300@su.ucalgary.ca
SUMMARY:Men's Soccer vs UBC
DESCRIPTION:Men’s Soccer vs UBC Calgary
URL:https://su.ucalgary.ca/calendar/mens-soccer-vs-ubc/
CATEGORIES:Dinos Athletics
END:VEVENT
BEGIN:VEVENT
DTSTART;TZID=America/Edmonton:20220919T090000
DTEND;TZID=America/Edmonton:20220919T170000
DTSTAMP:20260420T183546
CREATED:20220829T172806Z
LAST-MODIFIED:20230919T152959Z
UID:10000703-1663578000-1663606800@su.ucalgary.ca
SUMMARY:Clubs Week
DESCRIPTION:Join us in the Mac Hall North Courtyard for the return of Clubs Week\, Sept. 19-23. There are over 300 SU Clubs to explore. See the full Clubs list at https://suuofc.campuslabs.ca/engage/organizations
URL:https://su.ucalgary.ca/calendar/clubs-week/2022-09-19/
LOCATION:North Courtyard: MSC
CATEGORIES:SU
ORGANIZER;CN="Students' Union":MAILTO:reception@su.ucalgary.ca
END:VEVENT
BEGIN:VEVENT
DTSTART;TZID=America/Edmonton:20220920T090000
DTEND;TZID=America/Edmonton:20220920T170000
DTSTAMP:20260420T183546
CREATED:20220829T172806Z
LAST-MODIFIED:20230919T152959Z
UID:10000704-1663664400-1663693200@su.ucalgary.ca
SUMMARY:Clubs Week
DESCRIPTION:Join us in the Mac Hall North Courtyard for the return of Clubs Week\, Sept. 19-23. There are over 300 SU Clubs to explore. See the full Clubs list at https://suuofc.campuslabs.ca/engage/organizations
URL:https://su.ucalgary.ca/calendar/clubs-week/2022-09-20/
LOCATION:North Courtyard: MSC
CATEGORIES:SU
ORGANIZER;CN="Students' Union":MAILTO:reception@su.ucalgary.ca
END:VEVENT
BEGIN:VEVENT
DTSTART;TZID=America/Edmonton:20220920T123000
DTEND;TZID=America/Edmonton:20220920T133000
DTSTAMP:20260420T183546
CREATED:20220829T174217Z
LAST-MODIFIED:20220829T174305Z
UID:10000440-1663677000-1663680600@su.ucalgary.ca
SUMMARY:Mind & Body in the SPACE!
DESCRIPTION:Join us for Mind and Body in the Space! Starting September 6\, head to a yoga or meditation class where you’ll improve strength\, practice breathing techniques and relax in between classes. \nEvery Tuesday and Thursday! \nTuesdays – MEDITATION\, Thursdays – YOGA \nThat Empty Space is located on the lower level of MacEwan Student Centre\, next to Subway.
URL:https://su.ucalgary.ca/calendar/mind-body-in-the-space/2022-09-20/
LOCATION:That Empty Space: TES
CATEGORIES:SU
ORGANIZER;CN="Students' Union":MAILTO:reception@su.ucalgary.ca
END:VEVENT
BEGIN:VEVENT
DTSTART;TZID=America/Edmonton:20220921T090000
DTEND;TZID=America/Edmonton:20220921T170000
DTSTAMP:20260420T183546
CREATED:20220829T172806Z
LAST-MODIFIED:20230919T152959Z
UID:10000705-1663750800-1663779600@su.ucalgary.ca
SUMMARY:Clubs Week
DESCRIPTION:Join us in the Mac Hall North Courtyard for the return of Clubs Week\, Sept. 19-23. There are over 300 SU Clubs to explore. See the full Clubs list at https://suuofc.campuslabs.ca/engage/organizations
URL:https://su.ucalgary.ca/calendar/clubs-week/2022-09-21/
LOCATION:North Courtyard: MSC
CATEGORIES:SU
ORGANIZER;CN="Students' Union":MAILTO:reception@su.ucalgary.ca
END:VEVENT
END:VCALENDAR