BEGIN:VCALENDAR
VERSION:2.0
PRODID:-//Students&#039; Union, UCalgary - ECPv6.15.17.1//NONSGML v1.0//EN
CALSCALE:GREGORIAN
METHOD:PUBLISH
X-WR-CALNAME:Students&#039; Union, UCalgary
X-ORIGINAL-URL:https://su.ucalgary.ca
X-WR-CALDESC:Events for Students&#039; Union, UCalgary
REFRESH-INTERVAL;VALUE=DURATION:PT1H
X-Robots-Tag:noindex
X-PUBLISHED-TTL:PT1H
BEGIN:VTIMEZONE
TZID:America/Edmonton
BEGIN:DAYLIGHT
TZOFFSETFROM:-0700
TZOFFSETTO:-0600
TZNAME:MDT
DTSTART:20230312T090000
END:DAYLIGHT
BEGIN:STANDARD
TZOFFSETFROM:-0600
TZOFFSETTO:-0700
TZNAME:MST
DTSTART:20231105T080000
END:STANDARD
BEGIN:DAYLIGHT
TZOFFSETFROM:-0700
TZOFFSETTO:-0600
TZNAME:MDT
DTSTART:20240310T090000
END:DAYLIGHT
BEGIN:STANDARD
TZOFFSETFROM:-0600
TZOFFSETTO:-0700
TZNAME:MST
DTSTART:20241103T080000
END:STANDARD
BEGIN:DAYLIGHT
TZOFFSETFROM:-0700
TZOFFSETTO:-0600
TZNAME:MDT
DTSTART:20250309T090000
END:DAYLIGHT
BEGIN:STANDARD
TZOFFSETFROM:-0600
TZOFFSETTO:-0700
TZNAME:MST
DTSTART:20251102T080000
END:STANDARD
END:VTIMEZONE
BEGIN:VEVENT
DTSTART;TZID=America/Edmonton:20240201T140000
DTEND;TZID=America/Edmonton:20240201T150000
DTSTAMP:20260421T085709
CREATED:20240118T221650Z
LAST-MODIFIED:20240215T184552Z
UID:10000768-1706796000-1706799600@su.ucalgary.ca
SUMMARY:General Election 2024: Online Workshop
DESCRIPTION:Pre-Election Orientation sessions are generally held two weeks prior to Nomination days for the General Election. The CRO conducts these workshops for potential candidates to provide them background about the Students’ Union (SU)\, Students’ Legislative Council (SLC)\, expectations as an elected official\, various aspects of running in a student election and about what happens if you’re elected. All prospective Candidates and Campaign Groups are strongly encouraged to attend at least one Pre-Election Orientation session before running in the Election. \n  \nJoin in at https://ucalgary.zoom.us/j/96400057069?pwd=b2d1SHJ1QzdJN0NLdVE5ZDhyRU1wUT09&from=addon
URL:https://su.ucalgary.ca/calendar/general-election-2024-in-person-workshop-2/
LOCATION:Virtual Space\, Online
CATEGORIES:Elections,SU
ORGANIZER;CN="Students' Union":MAILTO:reception@su.ucalgary.ca
END:VEVENT
BEGIN:VEVENT
DTSTART;TZID=America/Edmonton:20240201T160000
DTEND;TZID=America/Edmonton:20240201T160000
DTSTAMP:20260421T085709
CREATED:20231110T225105Z
LAST-MODIFIED:20231110T225105Z
UID:10000727-1706803200-1706803200@su.ucalgary.ca
SUMMARY:Pride Scholarship Applications Close
DESCRIPTION:The SU Pride Scholarship is a Quality Money initiative dedicated to recognizing University of Calgary undergraduate students who are actively dedicated to the queer community. Five $2000 scholarships are awarded in the Winter semester.\n\n\nApplicants must be: \n\nA full-time University of Calgary undergraduate student in good academic standing (GPA of 2.0 or higher).\nBe returning in the upcoming academic year.\nHave contributed to the betterment of the queer community in a meaningful\, outstanding\, or otherwise positive way.\n\nTo apply or for more information\, visit the Q Centre Webpage.
URL:https://su.ucalgary.ca/calendar/pride-scholarship-applications-close/
LOCATION:2500 University Drive NW\, Calgary\, Alberta\, T2N1N4\, Canada
ORGANIZER;CN="Students' Union":MAILTO:reception@su.ucalgary.ca
END:VEVENT
BEGIN:VEVENT
DTSTART;TZID=America/Edmonton:20240205T080000
DTEND;TZID=America/Edmonton:20240211T170000
DTSTAMP:20260421T085709
CREATED:20240126T191241Z
LAST-MODIFIED:20240126T191440Z
UID:10000778-1707120000-1707670800@su.ucalgary.ca
SUMMARY:Fines-for-Food
DESCRIPTION:We are excited to continue our partnership with UCalgary’s Parking and Transportation Services – it’s called Fines-for-Food. Have you got outstanding parking fines? Pay them between Feb. 5 – 11\, and half of the revenue will be donated to the SU Campus Food Bank! \n\n\nAll tickets paid during this period will be included in the program\, regardless of when they were originally issued. Not sure how to pay your tickets? Visit parking.ucalgary.ca.
URL:https://su.ucalgary.ca/calendar/fines-for-food/
CATEGORIES:Volunteer Services
ORGANIZER;CN="Students' Union":MAILTO:reception@su.ucalgary.ca
END:VEVENT
BEGIN:VEVENT
DTSTART;TZID=America/Edmonton:20240205T110000
DTEND;TZID=America/Edmonton:20240209T150000
DTSTAMP:20260421T085709
CREATED:20240124T163255Z
LAST-MODIFIED:20240124T232948Z
UID:10000776-1707130800-1707490800@su.ucalgary.ca
SUMMARY:Students for Literacy Book Sale
DESCRIPTION:Looking to freshen up your bookshelf? Look no further than the SFL Book Sale! All week our volunteers will be selling the latest and greatest used books from 11AM-3PM.
URL:https://su.ucalgary.ca/calendar/students-for-literacy-book-sale/
CATEGORIES:SU
ORGANIZER;CN="Students' Union":MAILTO:reception@su.ucalgary.ca
END:VEVENT
BEGIN:VEVENT
DTSTART;TZID=America/Edmonton:20240206T180000
DTEND;TZID=America/Edmonton:20240206T203000
DTSTAMP:20260421T085709
CREATED:20240123T215640Z
LAST-MODIFIED:20240123T221231Z
UID:10000774-1707242400-1707251400@su.ucalgary.ca
SUMMARY:Lord of The Rings Trivia Night
DESCRIPTION:Think you know everything there is to know about Lord of The Rings? Join us for a night of trivia at The Den on February 6th; great prizes and bragging rights are up for grabs. See you there!
URL:https://su.ucalgary.ca/calendar/lord-of-the-rings-trivia-night-2/
ORGANIZER;CN="Students' Union":MAILTO:reception@su.ucalgary.ca
END:VEVENT
BEGIN:VEVENT
DTSTART;TZID=America/Edmonton:20240207T120000
DTEND;TZID=America/Edmonton:20240207T133000
DTSTAMP:20260421T085709
CREATED:20240131T225820Z
LAST-MODIFIED:20240131T225820Z
UID:10000786-1707307200-1707312600@su.ucalgary.ca
SUMMARY:Pet Therapy
DESCRIPTION:The puppies are back! Pet Therapy returns on Wednesday\, Feb 7 at 12 p.m.
URL:https://su.ucalgary.ca/calendar/pet-therapy-7/
CATEGORIES:Wellness Wednesday
ORGANIZER;CN="Students' Union":MAILTO:reception@su.ucalgary.ca
END:VEVENT
BEGIN:VEVENT
DTSTART;TZID=America/Edmonton:20240208T100000
DTEND;TZID=America/Edmonton:20240208T153000
DTSTAMP:20260421T085709
CREATED:20240124T225634Z
LAST-MODIFIED:20240124T225634Z
UID:10000777-1707386400-1707406200@su.ucalgary.ca
SUMMARY:Black History Month Movies and Short Films
DESCRIPTION:Join us for a selection of feature-length films and National Film Board short films in celebration of Black History Month\, February 8 in That Empty Space. Selma at 10:00 a.m.\, NFB short films at 12:15 p.m.\, and Summer of Soul at 1:00 p.m. \n 
URL:https://su.ucalgary.ca/calendar/black-history-month-movies-and-short-films/
ORGANIZER;CN="Students' Union":MAILTO:reception@su.ucalgary.ca
END:VEVENT
BEGIN:VEVENT
DTSTART;TZID=America/Edmonton:20240212T090000
DTEND;TZID=America/Edmonton:20240212T150000
DTSTAMP:20260421T085709
CREATED:20240131T223712Z
LAST-MODIFIED:20240215T184718Z
UID:10000783-1707728400-1707750000@su.ucalgary.ca
SUMMARY:General Election 2024: Nomination Days
DESCRIPTION:Forms may be submitted according to the Nomination Package available on the Election Docs page. The Elections team will accept nominations virtually from 9 a.m. to 12 p.m. each day or in person at the SU Main office (MSC 251) from 12 p.m. to 3 p.m. \n  \nJoin the nominations virtually at: https://ucalgary.zoom.us/j/99352490199?pwd=Ky93UnJrNkJpTE5ESzNPL2ZhTVZLUT09
URL:https://su.ucalgary.ca/calendar/general-election-2024-nomination-days/2024-02-12/
LOCATION:Council Chambers: MSC
CATEGORIES:Elections,SU
ORGANIZER;CN="Students' Union":MAILTO:reception@su.ucalgary.ca
END:VEVENT
BEGIN:VEVENT
DTSTART;TZID=America/Edmonton:20240212T110000
DTEND;TZID=America/Edmonton:20240212T140000
DTSTAMP:20260421T085709
CREATED:20240131T233000Z
LAST-MODIFIED:20240208T162634Z
UID:10000793-1707735600-1707746400@su.ucalgary.ca
SUMMARY:Sex Week Carnival
DESCRIPTION:Meet organizations in the Calgary community and on campus that are promoting sexual health and gender diversity. Get a passport and win cotton candy!
URL:https://su.ucalgary.ca/calendar/sex-week-carnival-3/
LOCATION:North Courtyard: MSC
CATEGORIES:SexWeek
END:VEVENT
BEGIN:VEVENT
DTSTART;TZID=America/Edmonton:20240212T153000
DTEND;TZID=America/Edmonton:20240212T163000
DTSTAMP:20260421T085709
CREATED:20240131T233103Z
LAST-MODIFIED:20240131T233345Z
UID:10000794-1707751800-1707755400@su.ucalgary.ca
SUMMARY:Understanding the Changing Landscape of HPV Related Cancers - What you need to know!
DESCRIPTION:Join Student Wellness Services and Dr. Mohamed El Hussein for a discussion about HPV and what you need to know!\nDuring the 1 hour we will:\nDiscuss what HPV is\, its related cancers and its landscape in Canada\nDiscuss the incidence of HPV infections\nDiscuss prevention methods\nShare information on how to get vaccinated right on campus!\n\nFree food will be provided! Please visit https://events.ucalgary.ca/wellness-services/event/456539-understanding-the-changing-landscape-of-hpv for more details and to register
URL:https://su.ucalgary.ca/calendar/understanding-the-changing-landscape-of-hpv-related-cancers-what-you-need-to-know/
LOCATION:Women’s Resource Centre (MSC482)
CATEGORIES:SexWeek
ORGANIZER;CN="Students' Union":MAILTO:reception@su.ucalgary.ca
END:VEVENT
BEGIN:VEVENT
DTSTART;TZID=America/Edmonton:20240212T173000
DTEND;TZID=America/Edmonton:20240212T193000
DTSTAMP:20260421T085709
CREATED:20240131T233248Z
LAST-MODIFIED:20240131T233248Z
UID:10000795-1707759000-1707766200@su.ucalgary.ca
SUMMARY:Queer Sexual Health Trivia
DESCRIPTION:Sex toys and queer culture\, what’s not to love? Join GSA^2 to learn about queer sexual health the fun way\, TRIVIA! Participate for a chance to win a gift card! Visit https://gsa.ucalgary.ca/product/gsa2-sexual-health-trivia-night-sex-week-2024/ to register and for more information.
URL:https://su.ucalgary.ca/calendar/queer-sexual-health-trivia/
LOCATION:Last Defense Lounge\, 2500 University Drive NW\, Calgary\, Alberta\, T2N1N4\, Canada
CATEGORIES:SexWeek
ORGANIZER;CN="Students' Union":MAILTO:reception@su.ucalgary.ca
END:VEVENT
BEGIN:VEVENT
DTSTART;TZID=America/Edmonton:20240213T090000
DTEND;TZID=America/Edmonton:20240213T150000
DTSTAMP:20260421T085709
CREATED:20240131T223712Z
LAST-MODIFIED:20240215T184718Z
UID:10000784-1707814800-1707836400@su.ucalgary.ca
SUMMARY:General Election 2024: Nomination Days
DESCRIPTION:Forms may be submitted according to the Nomination Package available on the Election Docs page. The Elections team will accept nominations virtually from 9 a.m. to 12 p.m. each day or in person at the SU Main office (MSC 251) from 12 p.m. to 3 p.m. \n  \nJoin the nominations virtually at: https://ucalgary.zoom.us/j/99352490199?pwd=Ky93UnJrNkJpTE5ESzNPL2ZhTVZLUT09
URL:https://su.ucalgary.ca/calendar/general-election-2024-nomination-days/2024-02-13/
LOCATION:Council Chambers: MSC
CATEGORIES:Elections,SU
ORGANIZER;CN="Students' Union":MAILTO:reception@su.ucalgary.ca
END:VEVENT
BEGIN:VEVENT
DTSTART;TZID=America/Edmonton:20240213T100000
DTEND;TZID=America/Edmonton:20240213T160000
DTSTAMP:20260421T085709
CREATED:20240131T232814Z
LAST-MODIFIED:20240209T222431Z
UID:10000792-1707818400-1707840000@su.ucalgary.ca
SUMMARY:Coffee\, Snacks\, and Condoms
DESCRIPTION:Come join the Education Students’ Association in the Education Loundge (EDT 202) for coffee and snacks. There will also be free mentrual products and condoms available to take!
URL:https://su.ucalgary.ca/calendar/coffee-snacks-and-condoms/
LOCATION:EDT 202
CATEGORIES:SexWeek
END:VEVENT
BEGIN:VEVENT
DTSTART;TZID=America/Edmonton:20240213T123000
DTEND;TZID=America/Edmonton:20240213T133000
DTSTAMP:20260421T085709
CREATED:20240131T232654Z
LAST-MODIFIED:20240209T222411Z
UID:10000791-1707827400-1707831000@su.ucalgary.ca
SUMMARY:Asexuality Panel
DESCRIPTION:This panel event seeks to help students learn more about asexuality and ace-spectrum identities. We will have panelists speak about their experiences\, their understandings of their identites\, and issues impacting the Ace community. Attendees can ask questions to our panelists and learn more! We want to raise awareness for this oft-neglected identity and spread positive information and impact on campus!
URL:https://su.ucalgary.ca/calendar/asexuality-panel/
LOCATION:Q Centre\, 2500 University Drive NW\, Calgary\, Alberta\, T2N1N4\, Canada
CATEGORIES:SexWeek
ORGANIZER;CN="The Q Centre":MAILTO:qcentre@ucalgary.ca
END:VEVENT
BEGIN:VEVENT
DTSTART;TZID=America/Edmonton:20240213T130000
DTEND;TZID=America/Edmonton:20240213T140000
DTSTAMP:20260421T085709
CREATED:20240131T232514Z
LAST-MODIFIED:20240131T232514Z
UID:10000790-1707829200-1707832800@su.ucalgary.ca
SUMMARY:Consent and Boundary Basics
DESCRIPTION:Creating a culture of consent starts with you! Join the Sexual and Gender Based Violence Prevention and Response Office to chat about navigating consent\, boundaries\, and relationships. This engaging workshop introduces the aspects of consent\, defines boundaries\, and gives strategies for communicating our own boundaries and rolling with rejection. There is something in this session for everybody because all of us are practising consent every day! \nRegister Now at: https://events.ucalgary.ca/event/456095-consent-and-boundary-basics
URL:https://su.ucalgary.ca/calendar/consent-and-boundary-basics/
LOCATION:That Empty Space: TES
CATEGORIES:SexWeek
ORGANIZER;CN="Sexual and Gender-Based Violence Reponse and Support Office":MAILTO:svsa@ucalgary.ca
END:VEVENT
BEGIN:VEVENT
DTSTART;TZID=America/Edmonton:20240213T140000
DTEND;TZID=America/Edmonton:20240213T150000
DTSTAMP:20260421T085709
CREATED:20240131T232254Z
LAST-MODIFIED:20240209T222738Z
UID:10000789-1707832800-1707836400@su.ucalgary.ca
SUMMARY:2SLGBTQIA+ Speaker Series featuring A. Light Zachary
DESCRIPTION:Join us for the next instalment of the 2SLGBTQIA+ Speakers Series at the Women’s Resource Centre featuring author A. Light Zachary.\n\nA. Light is an autistic\, queer human and a Lambda Literary Fellow. They’re also the author of The End\, by Anna\, a novella.\n\nAttendees will have the chance to take home their own copy of A. Light’s most recent work\, More Sure.\n\n2SLGBTQIA+ Speaker Series features scholars\, professionals\, and organizations who have made significant contributions to the 2SLGBTQIA+ community.
URL:https://su.ucalgary.ca/calendar/2slgbtqia-speaker-series-featuring-a-light-zachary/
LOCATION:Women’s Resource Centre (MSC482)
CATEGORIES:SexWeek
ORGANIZER;CN="Students' Union":MAILTO:reception@su.ucalgary.ca
END:VEVENT
BEGIN:VEVENT
DTSTART;TZID=America/Edmonton:20240214T090000
DTEND;TZID=America/Edmonton:20240214T150000
DTSTAMP:20260421T085709
CREATED:20240131T223712Z
LAST-MODIFIED:20240215T184718Z
UID:10000785-1707901200-1707922800@su.ucalgary.ca
SUMMARY:General Election 2024: Nomination Days
DESCRIPTION:Forms may be submitted according to the Nomination Package available on the Election Docs page. The Elections team will accept nominations virtually from 9 a.m. to 12 p.m. each day or in person at the SU Main office (MSC 251) from 12 p.m. to 3 p.m. \n  \nJoin the nominations virtually at: https://ucalgary.zoom.us/j/99352490199?pwd=Ky93UnJrNkJpTE5ESzNPL2ZhTVZLUT09
URL:https://su.ucalgary.ca/calendar/general-election-2024-nomination-days/2024-02-14/
LOCATION:Council Chambers: MSC
CATEGORIES:Elections,SU
ORGANIZER;CN="Students' Union":MAILTO:reception@su.ucalgary.ca
END:VEVENT
BEGIN:VEVENT
DTSTART;TZID=America/Edmonton:20240214T110000
DTEND;TZID=America/Edmonton:20240214T140000
DTSTAMP:20260421T085709
CREATED:20240112T185521Z
LAST-MODIFIED:20240131T182816Z
UID:10000759-1707908400-1707919200@su.ucalgary.ca
SUMMARY:Inclusive Valentines Making
DESCRIPTION:Craft event making inclusive valentines. Tables will be set up in MacHall north courtyard with art supplies to make inclusive valentines. The volunteers and coordinators will go around and help teach visitors who are interested different ways to make valentines\, but this will be more of a come and participate as you please event.
URL:https://su.ucalgary.ca/calendar/inclusive-valentines-making/
LOCATION:South Courtyard: MSC
CATEGORIES:SexWeek,SU
ORGANIZER;CN="The Q Centre":MAILTO:qcentre@ucalgary.ca
GEO:51.0780322578;-114.131684009
END:VEVENT
BEGIN:VEVENT
DTSTART;TZID=America/Edmonton:20240214T130000
DTEND;TZID=America/Edmonton:20240214T143000
DTSTAMP:20260421T085709
CREATED:20240112T190148Z
LAST-MODIFIED:20240130T213118Z
UID:10000760-1707915600-1707921000@su.ucalgary.ca
SUMMARY:De-coding Sacred Texts:  Expressions of Love
DESCRIPTION:Expressions of Love will follow the scriptural reasoning approach to interfaith dialogue. Each faith community represented will pick a short passage from their scripture surrounding the topic of ‘expressions of love’. Each passage is read out loud for the group. Then participants will get the chance to reflect on the passage\, ask any questions that they may have\, bring up things that struck them\, and discuss the passage as much as they are comfortable with. Faith Representatives that work with UCalgary’s Faith & Spirituality Centre will host this event\, bringing wisdom from their respective traditions. Faculty\, staff\, students\, and other community members of any faith background or no faith background are all welcome to attend! Light refreshments will be provided. \nRegister at: https://events.ucalgary.ca/faith-spirituality/event/456101-scriptural-reasoning-expressions-of-love \n 
URL:https://su.ucalgary.ca/calendar/scriptural-reasoning-expressions-of-love/
CATEGORIES:SexWeek,SU
ORGANIZER;CN="Faith and Spirituality Centre":MAILTO:interfaith@ucalgary.ca
END:VEVENT
BEGIN:VEVENT
DTSTART;TZID=America/Edmonton:20240214T153000
DTEND;TZID=America/Edmonton:20240214T170000
DTSTAMP:20260421T085709
CREATED:20240112T200036Z
LAST-MODIFIED:20240131T232132Z
UID:10000761-1707924600-1707930000@su.ucalgary.ca
SUMMARY:Sexual Violence and Anti-Opressive Practice Part 1
DESCRIPTION:This workshop examines the root causes of sexual violence and what it means to apply an anti-oppressive lens to this work. Through discussion\, conversation\, and an exploration of complex concepts that are the foundation of sexual violence\, participants will be able to gain new tools to apply to their work and/or deepen their understanding of tools they’re already using. \nThis workshop will include opportunities for participants to:\n-Their own lived experience in this world\n-The root causes of sexual violence\n-Self-reflect on their own perspectives and the work they do \nRegister at: https://events.ucalgary.ca/womens-centre/event/456526-sexual-violence-and-anti-oppressive-practice \n  \n 
URL:https://su.ucalgary.ca/calendar/sexual-violence-and-anti-opressive-practice/
LOCATION:Women’s Resource Centre (MSC482)
CATEGORIES:SexWeek
ORGANIZER;CN="Women's Resource Centre":MAILTO:women@ucalgary.ca
END:VEVENT
BEGIN:VEVENT
DTSTART;TZID=America/Edmonton:20240215T140000
DTEND;TZID=America/Edmonton:20240215T150000
DTSTAMP:20260421T085709
CREATED:20240112T200637Z
LAST-MODIFIED:20240112T204014Z
UID:10000762-1708005600-1708009200@su.ucalgary.ca
SUMMARY:A Students Guide to STIs
DESCRIPTION:STIs impact people of all ages\, genders\, and sexual orientations\, and getting or having an STI is nothing to be ashamed of. Hosted by the Centre for Sexuality\, this workshop will help people understand how STIs are transmitted\, prevented\, and talked about. This event will be offered hybrid. Free food will be available to those attending in person. Please see the registration page for more details! \nRegister at: https://events.ucalgary.ca/wellness-services/event/456523-a-students-guide-to-stis
URL:https://su.ucalgary.ca/calendar/a-students-guide-to-stis/
LOCATION:Women’s Resource Centre (MSC482)
CATEGORIES:SexWeek
END:VEVENT
BEGIN:VEVENT
DTSTART;TZID=America/Edmonton:20240215T153000
DTEND;TZID=America/Edmonton:20240215T170000
DTSTAMP:20260421T085709
CREATED:20240131T232009Z
LAST-MODIFIED:20240131T232009Z
UID:10000788-1708011000-1708016400@su.ucalgary.ca
SUMMARY:Sexual Violence and  Anti-Oppressive Practice pt. 2
DESCRIPTION:This workshop examines the root causes of sexual violence and what it means to apply an anti-oppressive lens to this work. Through discussion\, conversation\, and an exploration of complex concepts that are the foundation of sexual violence\, participants will be able to gain new tools to apply to their work and/or deepen their understanding of tools they’re already using.\n\nThis workshop will include opportunities for participants to:\n\n-Their own lived experience in this world\n-The root causes of sexual violence\n-Self-reflect on their own perspectives and the work they do
URL:https://su.ucalgary.ca/calendar/sexual-violence-and-anti-oppressive-practice-pt-2/
LOCATION:Women’s Resource Centre (MSC482)
CATEGORIES:SexWeek
ORGANIZER;CN="Women's Resource Centre":MAILTO:women@ucalgary.ca
END:VEVENT
BEGIN:VEVENT
DTSTART;TZID=America/Edmonton:20240215T160000
DTEND;TZID=America/Edmonton:20240215T180000
DTSTAMP:20260421T085709
CREATED:20240112T202804Z
LAST-MODIFIED:20240112T203835Z
UID:10000763-1708012800-1708020000@su.ucalgary.ca
SUMMARY:Queer Arts Showcase
DESCRIPTION:Come by the Q Centre to experience art and self-expression for the 2SLGBTQIA+ community! Visual art will be displayed around the space\, and poetry and other verbial mediums will be presented throughout the showcase. Join us in celebrating queer art! No registration required.
URL:https://su.ucalgary.ca/calendar/queer-arts-showcase/
LOCATION:Q Centre\, 2500 University Drive NW\, Calgary\, Alberta\, T2N1N4\, Canada
CATEGORIES:SexWeek
ORGANIZER;CN="The Q Centre":MAILTO:qcentre@ucalgary.ca
END:VEVENT
BEGIN:VEVENT
DTSTART;TZID=America/Edmonton:20240215T163000
DTEND;TZID=America/Edmonton:20240215T180000
DTSTAMP:20260421T085709
CREATED:20240131T230131Z
LAST-MODIFIED:20240131T230131Z
UID:10000787-1708014600-1708020000@su.ucalgary.ca
SUMMARY:C of Red at The Den
DESCRIPTION:C OF RED AT THE DEN!\nJoin your classmates at the pre-game at The Den (4:30 PM TO 6 PM) BEFORE HEADING TO THE ‘DOME!
URL:https://su.ucalgary.ca/calendar/c-of-red-at-the-den-2/
ORGANIZER;CN="Students' Union":MAILTO:reception@su.ucalgary.ca
END:VEVENT
BEGIN:VEVENT
DTSTART;TZID=America/Edmonton:20240215T180000
DTEND;TZID=America/Edmonton:20240215T200000
DTSTAMP:20260421T085709
CREATED:20240112T203116Z
LAST-MODIFIED:20240112T203810Z
UID:10000764-1708020000-1708027200@su.ucalgary.ca
SUMMARY:RAISE-ing Our Voices
DESCRIPTION:This is a drop-in style gallery where students will be able to view and add to different prompts and responses gathered from the campus community. These prompts will have a range in topics like relationships\, sexual and gender wellness\, education\, and more! The goal of the collages of responses is to create a space for open and honest conversations\, increase awareness and understanding to sexual and gender wellness\, and to promote positive change in the campus community. Students who want to be involved in sharing their stories and experiences ahead of time can go to our Instagram page @raise.ucalgary where the form will be posted throughout January. Your responses will be treated with utmost respect and confidentiality. We aim to create a safe space where everyone feels comfortable sharing their unique perspectives. On the day of the event students will not need to bring anything as all the supplies will be set up and ready\, students will be able to walk through the room and view all the anonymous responses for each prompt and add their own responses as well to engage with the conversations. This is a time for students to meet one another to share\, reflect\, and learn from each others stories and experiences.
URL:https://su.ucalgary.ca/calendar/raise-ing-our-voices/
LOCATION:Aurora Multipurpose Room\, 3272 24 Ave NW\, Calgary\, AB\, T2N 5A5\, Canada
CATEGORIES:SexWeek
END:VEVENT
BEGIN:VEVENT
DTSTART;TZID=America/Edmonton:20240216T090000
DTEND;TZID=America/Edmonton:20240216T090000
DTSTAMP:20260421T085709
CREATED:20240108T211542Z
LAST-MODIFIED:20240108T211542Z
UID:10000758-1708074000-1708074000@su.ucalgary.ca
SUMMARY:SU Annual Survey CLOSES
DESCRIPTION:Timeline\n9:00 AM Monday\, January 8\, 2024 – 11:59 PM Friday\, February 16\, 2024\n\n\nIncentives\n10 x $100.00 Amazon gift cards\n\n\nTopics\n\n\nHousing and transportation\nEmployment opportunities\nMental Health\nTuition and Fees\nStudents’ Union events\, programs\, and services\nUniversity services\nDemographic Questions
URL:https://su.ucalgary.ca/calendar/su-annual-survey-closes/
LOCATION:Virtual Space\, Online
CATEGORIES:SU
ORGANIZER;CN="Students' Union":MAILTO:reception@su.ucalgary.ca
END:VEVENT
BEGIN:VEVENT
DTSTART;TZID=America/Edmonton:20240216T120000
DTEND;TZID=America/Edmonton:20240216T130000
DTSTAMP:20260421T085709
CREATED:20240112T203706Z
LAST-MODIFIED:20240112T203706Z
UID:10000765-1708084800-1708088400@su.ucalgary.ca
SUMMARY:Alphabet Soup
DESCRIPTION:Come join the Q Centre and learn more about the 2SLGBTQIA+ community! All are welcome! Q will provide a brief comprihensive presenatation covering 2SLGBTQIA+ terminology & communities.
URL:https://su.ucalgary.ca/calendar/alphabet-soup-2/
LOCATION:That Empty Space: TES
CATEGORIES:SexWeek
ORGANIZER;CN="The Q Centre":MAILTO:qcentre@ucalgary.ca
END:VEVENT
BEGIN:VEVENT
DTSTART;TZID=America/Edmonton:20240216T163000
DTEND;TZID=America/Edmonton:20240216T163000
DTSTAMP:20260421T085709
CREATED:20240108T211041Z
LAST-MODIFIED:20240108T211106Z
UID:10000756-1708101000-1708101000@su.ucalgary.ca
SUMMARY:Teaching Excellence Awards: Nominations CLOSE
DESCRIPTION:Do you have a professor that inspires you?\nIs your instructor passionate about teaching?\nDoes your TA always go that extra mile to ensure you succeed?\nNominate them for a Teaching Excellence Award!\n\nSince 1984\, your SU has invited students to nominate U of C instructors who have had a positive impact on their undergraduate learning experience and academic careers. The SU Teaching Excellence Awards is the only campus-wide recognition program for those instructors who make a long-lasting impact on students. \nNominate your prof or TA! \nNOMINATE
URL:https://su.ucalgary.ca/calendar/teaching-excellence-awards-nominations-close/
LOCATION:Virtual Space\, Online
ORGANIZER;CN="Students' Union":MAILTO:reception@su.ucalgary.ca
END:VEVENT
BEGIN:VEVENT
DTSTART;TZID=America/Edmonton:20240220T153000
DTEND;TZID=America/Edmonton:20240220T160000
DTSTAMP:20260421T085710
CREATED:20240122T171949Z
LAST-MODIFIED:20240122T171949Z
UID:10000770-1708443000-1708444800@su.ucalgary.ca
SUMMARY:Good Food Box - FEBRUARY ORDER DEADLINE
DESCRIPTION:The SU Campus Food Bank is an official depot for the Good Food Box program and our services are open to the campus community! \nThe Good Food Box program is run through the Community Kitchen Program of Calgary and aims to provide community members with greater access to affordable\, nutritious and sustainable fresh fruits and vegetables. The program purchases produce directly from local farmers and wholesalers. The program is run by volunteers that pack the boxes full of fruits and vegetables to be delivered to depots across the city. \n\nPickup dates for this order date is February 28 to March 1. Please confirm times at time of order.\nOrders NOT PICKED UP by 4:00 PM on March 1 will be discarded. No refunds.\n\n\n\n\nSmall/Senior Box\n\n20+ lbs. of produce\n$30.00\n\n\n\n\n\n\n\nMedium Box\n\n30+ lbs. of produce\n$35.00\n\n\n\n\n\n\n\nLarge Box\n\n40+ lbs. of produce\n$40.00
URL:https://su.ucalgary.ca/calendar/good-food-box-feb2024-order-deadline/
CATEGORIES:SU,Volunteer Services
ORGANIZER;CN="Students' Union":MAILTO:reception@su.ucalgary.ca
END:VEVENT
BEGIN:VEVENT
DTSTART;TZID=America/Edmonton:20240227T100000
DTEND;TZID=America/Edmonton:20240227T140000
DTSTAMP:20260421T085710
CREATED:20240222T192753Z
LAST-MODIFIED:20240223T182749Z
UID:10000796-1709028000-1709042400@su.ucalgary.ca
SUMMARY:SU Election Candidate Fair
DESCRIPTION:Join us next week! Come meet your candidates for Faculty rep and students at large positions! The SU Election Candidate Fair will take place in Mac Hall North Courtyard from 10 am- 2 pm on Tuesday\, February 27.
URL:https://su.ucalgary.ca/calendar/su-election-candidate-fair/
LOCATION:North Courtyard: MSC
CATEGORIES:Elections
ORGANIZER;CN="Students' Union":MAILTO:reception@su.ucalgary.ca
END:VEVENT
END:VCALENDAR