BEGIN:VCALENDAR
VERSION:2.0
PRODID:-//Students&#039; Union, UCalgary - ECPv6.15.17.1//NONSGML v1.0//EN
CALSCALE:GREGORIAN
METHOD:PUBLISH
X-WR-CALNAME:Students&#039; Union, UCalgary
X-ORIGINAL-URL:https://su.ucalgary.ca
X-WR-CALDESC:Events for Students&#039; Union, UCalgary
REFRESH-INTERVAL;VALUE=DURATION:PT1H
X-Robots-Tag:noindex
X-PUBLISHED-TTL:PT1H
BEGIN:VTIMEZONE
TZID:America/Edmonton
BEGIN:DAYLIGHT
TZOFFSETFROM:-0700
TZOFFSETTO:-0600
TZNAME:MDT
DTSTART:20200308T090000
END:DAYLIGHT
BEGIN:STANDARD
TZOFFSETFROM:-0600
TZOFFSETTO:-0700
TZNAME:MST
DTSTART:20201101T080000
END:STANDARD
BEGIN:DAYLIGHT
TZOFFSETFROM:-0700
TZOFFSETTO:-0600
TZNAME:MDT
DTSTART:20210314T090000
END:DAYLIGHT
BEGIN:STANDARD
TZOFFSETFROM:-0600
TZOFFSETTO:-0700
TZNAME:MST
DTSTART:20211107T080000
END:STANDARD
BEGIN:DAYLIGHT
TZOFFSETFROM:-0700
TZOFFSETTO:-0600
TZNAME:MDT
DTSTART:20220313T090000
END:DAYLIGHT
BEGIN:STANDARD
TZOFFSETFROM:-0600
TZOFFSETTO:-0700
TZNAME:MST
DTSTART:20221106T080000
END:STANDARD
END:VTIMEZONE
BEGIN:VEVENT
DTSTART;VALUE=DATE:20211004
DTEND;VALUE=DATE:20211005
DTSTAMP:20260422T193148
CREATED:20210907T203306Z
LAST-MODIFIED:20210907T210838Z
UID:10000394-1633305600-1633391999@su.ucalgary.ca
SUMMARY:Advance Polls
DESCRIPTION:Advance polling station located in the Dining Centre (DC)\, October 4 and 5\, 2021. Times TBD.
URL:https://su.ucalgary.ca/calendar/advance-polls/2021-10-04/
LOCATION:Dining Centre\, 2500 University Drive NW\, Calgary\, Alberta\, T2N1N4\, Canada
END:VEVENT
BEGIN:VEVENT
DTSTART;VALUE=DATE:20211005
DTEND;VALUE=DATE:20211006
DTSTAMP:20260422T193148
CREATED:20210907T203306Z
LAST-MODIFIED:20210907T210838Z
UID:10000395-1633392000-1633478399@su.ucalgary.ca
SUMMARY:Advance Polls
DESCRIPTION:Advance polling station located in the Dining Centre (DC)\, October 4 and 5\, 2021. Times TBD.
URL:https://su.ucalgary.ca/calendar/advance-polls/2021-10-05/
LOCATION:Dining Centre\, 2500 University Drive NW\, Calgary\, Alberta\, T2N1N4\, Canada
END:VEVENT
BEGIN:VEVENT
DTSTART;TZID=America/Edmonton:20211005T123000
DTEND;TZID=America/Edmonton:20211005T133000
DTSTAMP:20260422T193148
CREATED:20210803T153136Z
LAST-MODIFIED:20210803T153136Z
UID:10000412-1633437000-1633440600@su.ucalgary.ca
SUMMARY:Fitness in the Space: Yoga
DESCRIPTION:Only 20 spots available so book early! \nThe registration for this event begins September 28\, 2021 at 1:00 PM. \nThat Empty Space is located on the bottom level of MacEwan Student Centre\, next to Subway.
URL:https://su.ucalgary.ca/calendar/fitness-in-the-space-yoga-3/
LOCATION:That Empty Space: TES
CATEGORIES:Fitness,SU
ORGANIZER;CN="Students' Union":MAILTO:reception@su.ucalgary.ca
END:VEVENT
END:VCALENDAR