BEGIN:VCALENDAR
VERSION:2.0
PRODID:-//Students&#039; Union, UCalgary - ECPv6.15.17.1//NONSGML v1.0//EN
CALSCALE:GREGORIAN
METHOD:PUBLISH
X-WR-CALNAME:Students&#039; Union, UCalgary
X-ORIGINAL-URL:https://su.ucalgary.ca
X-WR-CALDESC:Events for Students&#039; Union, UCalgary
REFRESH-INTERVAL;VALUE=DURATION:PT1H
X-Robots-Tag:noindex
X-PUBLISHED-TTL:PT1H
BEGIN:VTIMEZONE
TZID:America/Edmonton
BEGIN:DAYLIGHT
TZOFFSETFROM:-0700
TZOFFSETTO:-0600
TZNAME:MDT
DTSTART:20210314T090000
END:DAYLIGHT
BEGIN:STANDARD
TZOFFSETFROM:-0600
TZOFFSETTO:-0700
TZNAME:MST
DTSTART:20211107T080000
END:STANDARD
BEGIN:DAYLIGHT
TZOFFSETFROM:-0700
TZOFFSETTO:-0600
TZNAME:MDT
DTSTART:20220313T090000
END:DAYLIGHT
BEGIN:STANDARD
TZOFFSETFROM:-0600
TZOFFSETTO:-0700
TZNAME:MST
DTSTART:20221106T080000
END:STANDARD
BEGIN:DAYLIGHT
TZOFFSETFROM:-0700
TZOFFSETTO:-0600
TZNAME:MDT
DTSTART:20230312T090000
END:DAYLIGHT
BEGIN:STANDARD
TZOFFSETFROM:-0600
TZOFFSETTO:-0700
TZNAME:MST
DTSTART:20231105T080000
END:STANDARD
END:VTIMEZONE
BEGIN:VEVENT
DTSTART;TZID=America/Edmonton:20220902T133000
DTEND;TZID=America/Edmonton:20220902T163000
DTSTAMP:20260424T181334
CREATED:20220907T150127Z
LAST-MODIFIED:20220907T150127Z
UID:10000544-1662125400-1662136200@su.ucalgary.ca
SUMMARY:Women's Rugby vs Lethbridge
DESCRIPTION:Women’s Rugby vs Lethbridge Calgary
URL:https://su.ucalgary.ca/calendar/womens-rugby-vs-lethbridge/
CATEGORIES:Dinos Athletics
END:VEVENT
BEGIN:VEVENT
DTSTART;TZID=America/Edmonton:20220902T173000
DTEND;TZID=America/Edmonton:20220902T203000
DTSTAMP:20260424T181334
CREATED:20220907T150127Z
LAST-MODIFIED:20220907T150127Z
UID:10000543-1662139800-1662150600@su.ucalgary.ca
SUMMARY:Football vs Saskatchewan
DESCRIPTION:Football vs Saskatchewan Calgary
URL:https://su.ucalgary.ca/calendar/football-vs-saskatchewan/
CATEGORIES:Dinos Athletics
END:VEVENT
BEGIN:VEVENT
DTSTART;TZID=America/Edmonton:20220903T160000
DTEND;TZID=America/Edmonton:20220903T190000
DTSTAMP:20260424T181334
CREATED:20220907T150128Z
LAST-MODIFIED:20220907T150128Z
UID:10000542-1662220800-1662231600@su.ucalgary.ca
SUMMARY:Men's Soccer at Mount Royal
DESCRIPTION:Men’s Soccer at Mount Royal Calgary
URL:https://su.ucalgary.ca/calendar/mens-soccer-at-mount-royal/
CATEGORIES:Dinos Athletics
END:VEVENT
END:VCALENDAR