BEGIN:VCALENDAR
VERSION:2.0
PRODID:-//Students&#039; Union, UCalgary - ECPv6.15.17.1//NONSGML v1.0//EN
CALSCALE:GREGORIAN
METHOD:PUBLISH
X-WR-CALNAME:Students&#039; Union, UCalgary
X-ORIGINAL-URL:https://su.ucalgary.ca
X-WR-CALDESC:Events for Students&#039; Union, UCalgary
REFRESH-INTERVAL;VALUE=DURATION:PT1H
X-Robots-Tag:noindex
X-PUBLISHED-TTL:PT1H
BEGIN:VTIMEZONE
TZID:America/Edmonton
BEGIN:DAYLIGHT
TZOFFSETFROM:-0700
TZOFFSETTO:-0600
TZNAME:MDT
DTSTART:20210314T090000
END:DAYLIGHT
BEGIN:STANDARD
TZOFFSETFROM:-0600
TZOFFSETTO:-0700
TZNAME:MST
DTSTART:20211107T080000
END:STANDARD
BEGIN:DAYLIGHT
TZOFFSETFROM:-0700
TZOFFSETTO:-0600
TZNAME:MDT
DTSTART:20220313T090000
END:DAYLIGHT
BEGIN:STANDARD
TZOFFSETFROM:-0600
TZOFFSETTO:-0700
TZNAME:MST
DTSTART:20221106T080000
END:STANDARD
BEGIN:DAYLIGHT
TZOFFSETFROM:-0700
TZOFFSETTO:-0600
TZNAME:MDT
DTSTART:20230312T090000
END:DAYLIGHT
BEGIN:STANDARD
TZOFFSETFROM:-0600
TZOFFSETTO:-0700
TZNAME:MST
DTSTART:20231105T080000
END:STANDARD
END:VTIMEZONE
BEGIN:VEVENT
DTSTART;TZID=America/Edmonton:20220906T110000
DTEND;TZID=America/Edmonton:20220906T150000
DTSTAMP:20260421T200540
CREATED:20220829T173425Z
LAST-MODIFIED:20220829T173425Z
UID:10000450-1662462000-1662476400@su.ucalgary.ca
SUMMARY:Welcome Fair
DESCRIPTION:You won’t want to miss the 2022 Welcome Fair held in the MacEwan Student Centre North and South Courtyards on the first two days of classes. Win Prizes\, meet new people and learn about all sorts campus resources and programs.
URL:https://su.ucalgary.ca/calendar/welcome-fair/2022-09-06/
LOCATION:North Courtyard: MSC
CATEGORIES:SU
ORGANIZER;CN="Students' Union":MAILTO:reception@su.ucalgary.ca
END:VEVENT
BEGIN:VEVENT
DTSTART;TZID=America/Edmonton:20220906T123000
DTEND;TZID=America/Edmonton:20220906T133000
DTSTAMP:20260421T200540
CREATED:20220829T174217Z
LAST-MODIFIED:20220829T174305Z
UID:10000438-1662467400-1662471000@su.ucalgary.ca
SUMMARY:Mind & Body in the SPACE!
DESCRIPTION:Join us for Mind and Body in the Space! Starting September 6\, head to a yoga or meditation class where you’ll improve strength\, practice breathing techniques and relax in between classes. \nEvery Tuesday and Thursday! \nTuesdays – MEDITATION\, Thursdays – YOGA \nThat Empty Space is located on the lower level of MacEwan Student Centre\, next to Subway.
URL:https://su.ucalgary.ca/calendar/mind-body-in-the-space/2022-09-06/
LOCATION:That Empty Space: TES
CATEGORIES:SU
ORGANIZER;CN="Students' Union":MAILTO:reception@su.ucalgary.ca
END:VEVENT
BEGIN:VEVENT
DTSTART;TZID=America/Edmonton:20220907T110000
DTEND;TZID=America/Edmonton:20220907T150000
DTSTAMP:20260421T200540
CREATED:20220829T173425Z
LAST-MODIFIED:20220829T173425Z
UID:10000451-1662548400-1662562800@su.ucalgary.ca
SUMMARY:Welcome Fair
DESCRIPTION:You won’t want to miss the 2022 Welcome Fair held in the MacEwan Student Centre North and South Courtyards on the first two days of classes. Win Prizes\, meet new people and learn about all sorts campus resources and programs.
URL:https://su.ucalgary.ca/calendar/welcome-fair/2022-09-07/
LOCATION:North Courtyard: MSC
CATEGORIES:SU
ORGANIZER;CN="Students' Union":MAILTO:reception@su.ucalgary.ca
END:VEVENT
BEGIN:VEVENT
DTSTART;TZID=America/Edmonton:20220908T123000
DTEND;TZID=America/Edmonton:20220908T133000
DTSTAMP:20260421T200540
CREATED:20220829T174653Z
LAST-MODIFIED:20220829T174653Z
UID:10000426-1662640200-1662643800@su.ucalgary.ca
SUMMARY:Mind & Body in the SPACE!
DESCRIPTION:Join us for Mind and Body in the Space! Starting September 6\, head to a yoga or meditation class where you’ll improve strength\, practice breathing techniques and relax in between classes. \nEvery Tuesday: Meditation and Thursday: Yoga! \nThat Empty Space is located on the lower level of MacEwan Student Centre\, next to Subway.
URL:https://su.ucalgary.ca/calendar/mind-body-in-the-space-2/2022-09-08/
LOCATION:That Empty Space: TES
CATEGORIES:SU
ORGANIZER;CN="Students' Union":MAILTO:reception@su.ucalgary.ca
END:VEVENT
BEGIN:VEVENT
DTSTART;TZID=America/Edmonton:20220909T180000
DTEND;TZID=America/Edmonton:20220909T210000
DTSTAMP:20260421T200540
CREATED:20220907T150130Z
LAST-MODIFIED:20220907T150130Z
UID:10000541-1662746400-1662757200@su.ucalgary.ca
SUMMARY:Women's Soccer vs Manitoba
DESCRIPTION:Women’s Soccer vs Manitoba Calgary
URL:https://su.ucalgary.ca/calendar/womens-soccer-vs-manitoba/
CATEGORIES:Dinos Athletics
END:VEVENT
BEGIN:VEVENT
DTSTART;TZID=America/Edmonton:20220910T110000
DTEND;TZID=America/Edmonton:20220910T140000
DTSTAMP:20260421T200540
CREATED:20220907T150131Z
LAST-MODIFIED:20220907T150131Z
UID:10000540-1662807600-1662818400@su.ucalgary.ca
SUMMARY:Field Hockey vs Victoria
DESCRIPTION:Field Hockey vs Victoria Calgary
URL:https://su.ucalgary.ca/calendar/field-hockey-vs-victoria/
CATEGORIES:Dinos Athletics
END:VEVENT
BEGIN:VEVENT
DTSTART;TZID=America/Edmonton:20220910T141500
DTEND;TZID=America/Edmonton:20220910T171500
DTSTAMP:20260421T200540
CREATED:20220907T150131Z
LAST-MODIFIED:20220907T150131Z
UID:10000539-1662819300-1662830100@su.ucalgary.ca
SUMMARY:Men's Soccer vs Saskatchewan
DESCRIPTION:Men’s Soccer vs Saskatchewan Calgary
URL:https://su.ucalgary.ca/calendar/mens-soccer-vs-saskatchewan/
CATEGORIES:Dinos Athletics
END:VEVENT
BEGIN:VEVENT
DTSTART;TZID=America/Edmonton:20220910T190000
DTEND;TZID=America/Edmonton:20220910T220000
DTSTAMP:20260421T200540
CREATED:20220907T150131Z
LAST-MODIFIED:20220907T150131Z
UID:10000518-1662836400-1662847200@su.ucalgary.ca
SUMMARY:Men's Hockey vs Alberta
DESCRIPTION:Men’s Hockey vs Alberta Calgary
URL:https://su.ucalgary.ca/calendar/mens-hockey-vs-alberta/
CATEGORIES:Dinos Athletics
END:VEVENT
BEGIN:VEVENT
DTSTART;TZID=America/Edmonton:20220911T110000
DTEND;TZID=America/Edmonton:20220911T140000
DTSTAMP:20260421T200540
CREATED:20220907T150131Z
LAST-MODIFIED:20220907T150131Z
UID:10000537-1662894000-1662904800@su.ucalgary.ca
SUMMARY:Field Hockey vs Victoria
DESCRIPTION:Field Hockey vs Victoria Calgary
URL:https://su.ucalgary.ca/calendar/field-hockey-vs-victoria-2/
CATEGORIES:Dinos Athletics
END:VEVENT
BEGIN:VEVENT
DTSTART;TZID=America/Edmonton:20220911T120000
DTEND;TZID=America/Edmonton:20220911T150000
DTSTAMP:20260421T200540
CREATED:20220907T150230Z
LAST-MODIFIED:20220907T150230Z
UID:10000536-1662897600-1662908400@su.ucalgary.ca
SUMMARY:Women's Soccer vs Winnipeg
DESCRIPTION:Women’s Soccer vs Winnipeg Calgary
URL:https://su.ucalgary.ca/calendar/womens-soccer-vs-winnipeg/
CATEGORIES:Dinos Athletics
END:VEVENT
BEGIN:VEVENT
DTSTART;TZID=America/Edmonton:20220911T141500
DTEND;TZID=America/Edmonton:20220911T171500
DTSTAMP:20260421T200540
CREATED:20220907T150231Z
LAST-MODIFIED:20220907T150231Z
UID:10000535-1662905700-1662916500@su.ucalgary.ca
SUMMARY:Men's Soccer vs Lethbridge
DESCRIPTION:Men’s Soccer vs Lethbridge Calgary
URL:https://su.ucalgary.ca/calendar/mens-soccer-vs-lethbridge/
CATEGORIES:Dinos Athletics
END:VEVENT
END:VCALENDAR