BEGIN:VCALENDAR
VERSION:2.0
PRODID:-//Students&#039; Union, UCalgary - ECPv6.15.17.1//NONSGML v1.0//EN
CALSCALE:GREGORIAN
METHOD:PUBLISH
X-WR-CALNAME:Students&#039; Union, UCalgary
X-ORIGINAL-URL:https://su.ucalgary.ca
X-WR-CALDESC:Events for Students&#039; Union, UCalgary
REFRESH-INTERVAL;VALUE=DURATION:PT1H
X-Robots-Tag:noindex
X-PUBLISHED-TTL:PT1H
BEGIN:VTIMEZONE
TZID:America/Edmonton
BEGIN:DAYLIGHT
TZOFFSETFROM:-0700
TZOFFSETTO:-0600
TZNAME:MDT
DTSTART:20210314T090000
END:DAYLIGHT
BEGIN:STANDARD
TZOFFSETFROM:-0600
TZOFFSETTO:-0700
TZNAME:MST
DTSTART:20211107T080000
END:STANDARD
BEGIN:DAYLIGHT
TZOFFSETFROM:-0700
TZOFFSETTO:-0600
TZNAME:MDT
DTSTART:20220313T090000
END:DAYLIGHT
BEGIN:STANDARD
TZOFFSETFROM:-0600
TZOFFSETTO:-0700
TZNAME:MST
DTSTART:20221106T080000
END:STANDARD
BEGIN:DAYLIGHT
TZOFFSETFROM:-0700
TZOFFSETTO:-0600
TZNAME:MDT
DTSTART:20230312T090000
END:DAYLIGHT
BEGIN:STANDARD
TZOFFSETFROM:-0600
TZOFFSETTO:-0700
TZNAME:MST
DTSTART:20231105T080000
END:STANDARD
END:VTIMEZONE
BEGIN:VEVENT
DTSTART;TZID=America/Edmonton:20220927T123000
DTEND;TZID=America/Edmonton:20220927T133000
DTSTAMP:20260420T141348
CREATED:20220829T174217Z
LAST-MODIFIED:20220829T174305Z
UID:10000441-1664281800-1664285400@su.ucalgary.ca
SUMMARY:Mind & Body in the SPACE!
DESCRIPTION:Join us for Mind and Body in the Space! Starting September 6\, head to a yoga or meditation class where you’ll improve strength\, practice breathing techniques and relax in between classes. \nEvery Tuesday and Thursday! \nTuesdays – MEDITATION\, Thursdays – YOGA \nThat Empty Space is located on the lower level of MacEwan Student Centre\, next to Subway.
URL:https://su.ucalgary.ca/calendar/mind-body-in-the-space/2022-09-27/
LOCATION:That Empty Space: TES
CATEGORIES:SU
ORGANIZER;CN="Students' Union":MAILTO:reception@su.ucalgary.ca
END:VEVENT
BEGIN:VEVENT
DTSTART;TZID=America/Edmonton:20220929T123000
DTEND;TZID=America/Edmonton:20220929T133000
DTSTAMP:20260420T141348
CREATED:20220829T174653Z
LAST-MODIFIED:20220829T174653Z
UID:10000429-1664454600-1664458200@su.ucalgary.ca
SUMMARY:Mind & Body in the SPACE!
DESCRIPTION:Join us for Mind and Body in the Space! Starting September 6\, head to a yoga or meditation class where you’ll improve strength\, practice breathing techniques and relax in between classes. \nEvery Tuesday: Meditation and Thursday: Yoga! \nThat Empty Space is located on the lower level of MacEwan Student Centre\, next to Subway.
URL:https://su.ucalgary.ca/calendar/mind-body-in-the-space-2/2022-09-29/
LOCATION:That Empty Space: TES
CATEGORIES:SU
ORGANIZER;CN="Students' Union":MAILTO:reception@su.ucalgary.ca
END:VEVENT
BEGIN:VEVENT
DTSTART;TZID=America/Edmonton:20220929T190000
DTEND;TZID=America/Edmonton:20220929T220000
DTSTAMP:20260420T141348
CREATED:20220907T150830Z
LAST-MODIFIED:20220907T150830Z
UID:10000393-1664478000-1664488800@su.ucalgary.ca
SUMMARY:Men's Volleyball vs Thompson Rivers
DESCRIPTION:Men’s Volleyball vs Thompson Rivers Calgary
URL:https://su.ucalgary.ca/calendar/mens-volleyball-vs-thompson-rivers/
CATEGORIES:Dinos Athletics
END:VEVENT
BEGIN:VEVENT
DTSTART;TZID=America/Edmonton:20220930T120000
DTEND;TZID=America/Edmonton:20220930T150000
DTSTAMP:20260420T141348
CREATED:20220907T150830Z
LAST-MODIFIED:20220907T150830Z
UID:10000396-1664539200-1664550000@su.ucalgary.ca
SUMMARY:Men's Volleyball vs UBC-Okanagan
DESCRIPTION:Men’s Volleyball vs UBC-Okanagan Calgary
URL:https://su.ucalgary.ca/calendar/mens-volleyball-vs-ubc-okanagan/
CATEGORIES:Dinos Athletics
END:VEVENT
BEGIN:VEVENT
DTSTART;TZID=America/Edmonton:20220930T180000
DTEND;TZID=America/Edmonton:20220930T210000
DTSTAMP:20260420T141348
CREATED:20220907T150831Z
LAST-MODIFIED:20220907T150831Z
UID:10000398-1664560800-1664571600@su.ucalgary.ca
SUMMARY:Football vs UBC
DESCRIPTION:Football vs UBC Calgary
URL:https://su.ucalgary.ca/calendar/football-vs-ubc/
CATEGORIES:Dinos Athletics
END:VEVENT
BEGIN:VEVENT
DTSTART;TZID=America/Edmonton:20220930T190000
DTEND;TZID=America/Edmonton:20220930T220000
DTSTAMP:20260420T141348
CREATED:20220907T150831Z
LAST-MODIFIED:20220907T150831Z
UID:10000400-1664564400-1664575200@su.ucalgary.ca
SUMMARY:Women's Hockey vs UBC
DESCRIPTION:Women’s Hockey vs UBC Calgary
URL:https://su.ucalgary.ca/calendar/womens-hockey-vs-ubc/
CATEGORIES:Dinos Athletics
END:VEVENT
BEGIN:VEVENT
DTSTART;TZID=America/Edmonton:20220930T193000
DTEND;TZID=America/Edmonton:20220930T223000
DTSTAMP:20260420T141348
CREATED:20220907T151030Z
LAST-MODIFIED:20220907T151030Z
UID:10000402-1664566200-1664577000@su.ucalgary.ca
SUMMARY:Men's Volleyball vs Alberta
DESCRIPTION:Men’s Volleyball vs Alberta Calgary
URL:https://su.ucalgary.ca/calendar/mens-volleyball-vs-alberta/
CATEGORIES:Dinos Athletics
END:VEVENT
BEGIN:VEVENT
DTSTART;TZID=America/Edmonton:20221001T150000
DTEND;TZID=America/Edmonton:20221001T180000
DTSTAMP:20260420T141348
CREATED:20220907T151030Z
LAST-MODIFIED:20220907T151030Z
UID:10000404-1664636400-1664647200@su.ucalgary.ca
SUMMARY:Women's Hockey vs UBC
DESCRIPTION:Women’s Hockey vs UBC Calgary
URL:https://su.ucalgary.ca/calendar/womens-hockey-vs-ubc-2/
CATEGORIES:Dinos Athletics
END:VEVENT
BEGIN:VEVENT
DTSTART;TZID=America/Edmonton:20221001T180000
DTEND;TZID=America/Edmonton:20221001T210000
DTSTAMP:20260420T141348
CREATED:20220907T151031Z
LAST-MODIFIED:20220907T151031Z
UID:10000406-1664647200-1664658000@su.ucalgary.ca
SUMMARY:Men's Volleyball vs Mount Royal
DESCRIPTION:Men’s Volleyball vs Mount Royal Calgary
URL:https://su.ucalgary.ca/calendar/mens-volleyball-vs-mount-royal/
CATEGORIES:Dinos Athletics
END:VEVENT
BEGIN:VEVENT
DTSTART;TZID=America/Edmonton:20221001T190000
DTEND;TZID=America/Edmonton:20221001T220000
DTSTAMP:20260420T141348
CREATED:20220907T151031Z
LAST-MODIFIED:20220907T151031Z
UID:10000408-1664650800-1664661600@su.ucalgary.ca
SUMMARY:Men's Soccer vs Mount Royal
DESCRIPTION:Men’s Soccer vs Mount Royal Calgary
URL:https://su.ucalgary.ca/calendar/mens-soccer-vs-mount-royal/
CATEGORIES:Dinos Athletics
END:VEVENT
END:VCALENDAR