BEGIN:VCALENDAR
VERSION:2.0
PRODID:-//Students&#039; Union, UCalgary - ECPv6.15.17.1//NONSGML v1.0//EN
CALSCALE:GREGORIAN
METHOD:PUBLISH
X-WR-CALNAME:Students&#039; Union, UCalgary
X-ORIGINAL-URL:https://su.ucalgary.ca
X-WR-CALDESC:Events for Students&#039; Union, UCalgary
REFRESH-INTERVAL;VALUE=DURATION:PT1H
X-Robots-Tag:noindex
X-PUBLISHED-TTL:PT1H
BEGIN:VTIMEZONE
TZID:America/Edmonton
BEGIN:DAYLIGHT
TZOFFSETFROM:-0700
TZOFFSETTO:-0600
TZNAME:MDT
DTSTART:20210314T090000
END:DAYLIGHT
BEGIN:STANDARD
TZOFFSETFROM:-0600
TZOFFSETTO:-0700
TZNAME:MST
DTSTART:20211107T080000
END:STANDARD
BEGIN:DAYLIGHT
TZOFFSETFROM:-0700
TZOFFSETTO:-0600
TZNAME:MDT
DTSTART:20220313T090000
END:DAYLIGHT
BEGIN:STANDARD
TZOFFSETFROM:-0600
TZOFFSETTO:-0700
TZNAME:MST
DTSTART:20221106T080000
END:STANDARD
BEGIN:DAYLIGHT
TZOFFSETFROM:-0700
TZOFFSETTO:-0600
TZNAME:MDT
DTSTART:20230312T090000
END:DAYLIGHT
BEGIN:STANDARD
TZOFFSETFROM:-0600
TZOFFSETTO:-0700
TZNAME:MST
DTSTART:20231105T080000
END:STANDARD
END:VTIMEZONE
BEGIN:VEVENT
DTSTART;TZID=America/Edmonton:20221011T123000
DTEND;TZID=America/Edmonton:20221011T133000
DTSTAMP:20260422T183259
CREATED:20220829T174217Z
LAST-MODIFIED:20220829T174305Z
UID:10000443-1665491400-1665495000@su.ucalgary.ca
SUMMARY:Mind & Body in the SPACE!
DESCRIPTION:Join us for Mind and Body in the Space! Starting September 6\, head to a yoga or meditation class where you’ll improve strength\, practice breathing techniques and relax in between classes. \nEvery Tuesday and Thursday! \nTuesdays – MEDITATION\, Thursdays – YOGA \nThat Empty Space is located on the lower level of MacEwan Student Centre\, next to Subway.
URL:https://su.ucalgary.ca/calendar/mind-body-in-the-space/2022-10-11/
LOCATION:That Empty Space: TES
CATEGORIES:SU
ORGANIZER;CN="Students' Union":MAILTO:reception@su.ucalgary.ca
END:VEVENT
BEGIN:VEVENT
DTSTART;TZID=America/Edmonton:20221012T120000
DTEND;TZID=America/Edmonton:20221012T133000
DTSTAMP:20260422T183259
CREATED:20220829T175227Z
LAST-MODIFIED:20230125T232510Z
UID:10000549-1665576000-1665581400@su.ucalgary.ca
SUMMARY:Pet Therapy
DESCRIPTION:We are so excited to announce that Pet therapy is coming back! PALS will be joining us again for Pet Therapy once a month. PALS provides Pet Visitation Therapy to address the stress that Students have to go through throughout their undergrad. \nThat Empty Space is located on the lower level of MacEwan Student Centre\, next to Subway.
URL:https://su.ucalgary.ca/calendar/pet-therapy/2022-10-12/
LOCATION:That Empty Space: TES
CATEGORIES:Stress Less,SU
ORGANIZER;CN="Students' Union":MAILTO:reception@su.ucalgary.ca
END:VEVENT
BEGIN:VEVENT
DTSTART;TZID=America/Edmonton:20221013T123000
DTEND;TZID=America/Edmonton:20221013T133000
DTSTAMP:20260422T183259
CREATED:20220829T174653Z
LAST-MODIFIED:20220829T174653Z
UID:10000431-1665664200-1665667800@su.ucalgary.ca
SUMMARY:Mind & Body in the SPACE!
DESCRIPTION:Join us for Mind and Body in the Space! Starting September 6\, head to a yoga or meditation class where you’ll improve strength\, practice breathing techniques and relax in between classes. \nEvery Tuesday: Meditation and Thursday: Yoga! \nThat Empty Space is located on the lower level of MacEwan Student Centre\, next to Subway.
URL:https://su.ucalgary.ca/calendar/mind-body-in-the-space-2/2022-10-13/
LOCATION:That Empty Space: TES
CATEGORIES:SU
ORGANIZER;CN="Students' Union":MAILTO:reception@su.ucalgary.ca
END:VEVENT
BEGIN:VEVENT
DTSTART;TZID=America/Edmonton:20221014T160000
DTEND;TZID=America/Edmonton:20221014T190000
DTSTAMP:20260422T183259
CREATED:20220907T151430Z
LAST-MODIFIED:20220907T151430Z
UID:10000574-1665763200-1665774000@su.ucalgary.ca
SUMMARY:Women's Soccer vs UBC-Okanagan
DESCRIPTION:Women’s Soccer vs UBC-Okanagan Calgary
URL:https://su.ucalgary.ca/calendar/womens-soccer-vs-ubc-okanagan/
CATEGORIES:Dinos Athletics
END:VEVENT
BEGIN:VEVENT
DTSTART;TZID=America/Edmonton:20221014T190000
DTEND;TZID=America/Edmonton:20221014T220000
DTSTAMP:20260422T183259
CREATED:20220907T151431Z
LAST-MODIFIED:20220907T151431Z
UID:10000555-1665774000-1665784800@su.ucalgary.ca
SUMMARY:Men's Hockey at Mount Royal
DESCRIPTION:Men’s Hockey at Mount Royal Calgary
URL:https://su.ucalgary.ca/calendar/mens-hockey-at-mount-royal/
CATEGORIES:Dinos Athletics
END:VEVENT
BEGIN:VEVENT
DTSTART;TZID=America/Edmonton:20221014T190000
DTEND;TZID=America/Edmonton:20221014T220000
DTSTAMP:20260422T183259
CREATED:20220907T151431Z
LAST-MODIFIED:20220907T151431Z
UID:10000572-1665774000-1665784800@su.ucalgary.ca
SUMMARY:Women's Hockey vs Mount Royal
DESCRIPTION:Women’s Hockey vs Mount Royal Calgary
URL:https://su.ucalgary.ca/calendar/womens-hockey-vs-mount-royal-2/
CATEGORIES:Dinos Athletics
END:VEVENT
BEGIN:VEVENT
DTSTART;TZID=America/Edmonton:20221015T160000
DTEND;TZID=America/Edmonton:20221015T190000
DTSTAMP:20260422T183259
CREATED:20220907T151632Z
LAST-MODIFIED:20220907T151632Z
UID:10000570-1665849600-1665860400@su.ucalgary.ca
SUMMARY:Women's Rugby vs Alberta
DESCRIPTION:Women’s Rugby vs Alberta Calgary
URL:https://su.ucalgary.ca/calendar/womens-rugby-vs-alberta/
CATEGORIES:Dinos Athletics
END:VEVENT
BEGIN:VEVENT
DTSTART;TZID=America/Edmonton:20221015T180000
DTEND;TZID=America/Edmonton:20221015T210000
DTSTAMP:20260422T183259
CREATED:20220907T151632Z
LAST-MODIFIED:20220907T151632Z
UID:10000568-1665856800-1665867600@su.ucalgary.ca
SUMMARY:Men's Hockey vs Mount Royal
DESCRIPTION:Men’s Hockey vs Mount Royal Calgary
URL:https://su.ucalgary.ca/calendar/mens-hockey-vs-mount-royal-2/
CATEGORIES:Dinos Athletics
END:VEVENT
BEGIN:VEVENT
DTSTART;TZID=America/Edmonton:20221015T180000
DTEND;TZID=America/Edmonton:20221015T210000
DTSTAMP:20260422T183259
CREATED:20220907T151632Z
LAST-MODIFIED:20220907T151632Z
UID:10000566-1665856800-1665867600@su.ucalgary.ca
SUMMARY:Women's Hockey at Mount Royal
DESCRIPTION:Women’s Hockey at Mount Royal Calgary
URL:https://su.ucalgary.ca/calendar/womens-hockey-at-mount-royal-2/
CATEGORIES:Dinos Athletics
END:VEVENT
BEGIN:VEVENT
DTSTART;TZID=America/Edmonton:20221016T120000
DTEND;TZID=America/Edmonton:20221016T150000
DTSTAMP:20260422T183259
CREATED:20220907T151632Z
LAST-MODIFIED:20220907T151632Z
UID:10000564-1665921600-1665932400@su.ucalgary.ca
SUMMARY:Women's Soccer vs Thompson Rivers
DESCRIPTION:Women’s Soccer vs Thompson Rivers Calgary
URL:https://su.ucalgary.ca/calendar/womens-soccer-vs-thompson-rivers/
CATEGORIES:Dinos Athletics
END:VEVENT
END:VCALENDAR