BEGIN:VCALENDAR
VERSION:2.0
PRODID:-//Students&#039; Union, UCalgary - ECPv6.15.17.1//NONSGML v1.0//EN
CALSCALE:GREGORIAN
METHOD:PUBLISH
X-WR-CALNAME:Students&#039; Union, UCalgary
X-ORIGINAL-URL:https://su.ucalgary.ca
X-WR-CALDESC:Events for Students&#039; Union, UCalgary
REFRESH-INTERVAL;VALUE=DURATION:PT1H
X-Robots-Tag:noindex
X-PUBLISHED-TTL:PT1H
BEGIN:VTIMEZONE
TZID:America/Edmonton
BEGIN:DAYLIGHT
TZOFFSETFROM:-0700
TZOFFSETTO:-0600
TZNAME:MDT
DTSTART:20210314T090000
END:DAYLIGHT
BEGIN:STANDARD
TZOFFSETFROM:-0600
TZOFFSETTO:-0700
TZNAME:MST
DTSTART:20211107T080000
END:STANDARD
BEGIN:DAYLIGHT
TZOFFSETFROM:-0700
TZOFFSETTO:-0600
TZNAME:MDT
DTSTART:20220313T090000
END:DAYLIGHT
BEGIN:STANDARD
TZOFFSETFROM:-0600
TZOFFSETTO:-0700
TZNAME:MST
DTSTART:20221106T080000
END:STANDARD
BEGIN:DAYLIGHT
TZOFFSETFROM:-0700
TZOFFSETTO:-0600
TZNAME:MDT
DTSTART:20230312T090000
END:DAYLIGHT
BEGIN:STANDARD
TZOFFSETFROM:-0600
TZOFFSETTO:-0700
TZNAME:MST
DTSTART:20231105T080000
END:STANDARD
END:VTIMEZONE
BEGIN:VEVENT
DTSTART;TZID=America/Edmonton:20221018T123000
DTEND;TZID=America/Edmonton:20221018T133000
DTSTAMP:20260422T045051
CREATED:20220829T174217Z
LAST-MODIFIED:20220829T174305Z
UID:10000444-1666096200-1666099800@su.ucalgary.ca
SUMMARY:Mind & Body in the SPACE!
DESCRIPTION:Join us for Mind and Body in the Space! Starting September 6\, head to a yoga or meditation class where you’ll improve strength\, practice breathing techniques and relax in between classes. \nEvery Tuesday and Thursday! \nTuesdays – MEDITATION\, Thursdays – YOGA \nThat Empty Space is located on the lower level of MacEwan Student Centre\, next to Subway.
URL:https://su.ucalgary.ca/calendar/mind-body-in-the-space/2022-10-18/
LOCATION:That Empty Space: TES
CATEGORIES:SU
ORGANIZER;CN="Students' Union":MAILTO:reception@su.ucalgary.ca
END:VEVENT
BEGIN:VEVENT
DTSTART;TZID=America/Edmonton:20221020T123000
DTEND;TZID=America/Edmonton:20221020T133000
DTSTAMP:20260422T045051
CREATED:20220829T174653Z
LAST-MODIFIED:20220829T174653Z
UID:10000432-1666269000-1666272600@su.ucalgary.ca
SUMMARY:Mind & Body in the SPACE!
DESCRIPTION:Join us for Mind and Body in the Space! Starting September 6\, head to a yoga or meditation class where you’ll improve strength\, practice breathing techniques and relax in between classes. \nEvery Tuesday: Meditation and Thursday: Yoga! \nThat Empty Space is located on the lower level of MacEwan Student Centre\, next to Subway.
URL:https://su.ucalgary.ca/calendar/mind-body-in-the-space-2/2022-10-20/
LOCATION:That Empty Space: TES
CATEGORIES:SU
ORGANIZER;CN="Students' Union":MAILTO:reception@su.ucalgary.ca
END:VEVENT
BEGIN:VEVENT
DTSTART;TZID=America/Edmonton:20221021T180000
DTEND;TZID=America/Edmonton:20221021T210000
DTSTAMP:20260422T045051
CREATED:20220907T151633Z
LAST-MODIFIED:20220907T151633Z
UID:10000562-1666375200-1666386000@su.ucalgary.ca
SUMMARY:Men's Volleyball at Mount Royal
DESCRIPTION:Men’s Volleyball at Mount Royal Calgary
URL:https://su.ucalgary.ca/calendar/mens-volleyball-at-mount-royal/
CATEGORIES:Dinos Athletics
END:VEVENT
BEGIN:VEVENT
DTSTART;TZID=America/Edmonton:20221021T190000
DTEND;TZID=America/Edmonton:20221021T220000
DTSTAMP:20260422T045051
CREATED:20220907T151830Z
LAST-MODIFIED:20220907T151830Z
UID:10000561-1666378800-1666389600@su.ucalgary.ca
SUMMARY:Men's Hockey vs Regina
DESCRIPTION:Men’s Hockey vs Regina Calgary
URL:https://su.ucalgary.ca/calendar/mens-hockey-vs-regina/
CATEGORIES:Dinos Athletics
END:VEVENT
BEGIN:VEVENT
DTSTART;TZID=America/Edmonton:20221021T200000
DTEND;TZID=America/Edmonton:20221021T230000
DTSTAMP:20260422T045051
CREATED:20220907T151830Z
LAST-MODIFIED:20220907T151830Z
UID:10000560-1666382400-1666393200@su.ucalgary.ca
SUMMARY:Women's Volleyball at Mount Royal
DESCRIPTION:Women’s Volleyball at Mount Royal Calgary
URL:https://su.ucalgary.ca/calendar/womens-volleyball-at-mount-royal/
CATEGORIES:Dinos Athletics
END:VEVENT
BEGIN:VEVENT
DTSTART;TZID=America/Edmonton:20221022T130000
DTEND;TZID=America/Edmonton:20221022T160000
DTSTAMP:20260422T045051
CREATED:20220907T151830Z
LAST-MODIFIED:20220907T151830Z
UID:10000559-1666443600-1666454400@su.ucalgary.ca
SUMMARY:Football vs Regina
DESCRIPTION:Football vs Regina Calgary
URL:https://su.ucalgary.ca/calendar/football-vs-regina/
CATEGORIES:Dinos Athletics
END:VEVENT
BEGIN:VEVENT
DTSTART;TZID=America/Edmonton:20221022T141500
DTEND;TZID=America/Edmonton:20221022T171500
DTSTAMP:20260422T045051
CREATED:20220907T151830Z
LAST-MODIFIED:20220907T151830Z
UID:10000558-1666448100-1666458900@su.ucalgary.ca
SUMMARY:Men's Soccer vs MacEwan
DESCRIPTION:Men’s Soccer vs MacEwan Calgary
URL:https://su.ucalgary.ca/calendar/mens-soccer-vs-macewan/
CATEGORIES:Dinos Athletics
END:VEVENT
BEGIN:VEVENT
DTSTART;TZID=America/Edmonton:20221022T170000
DTEND;TZID=America/Edmonton:20221022T200000
DTSTAMP:20260422T045051
CREATED:20220907T151831Z
LAST-MODIFIED:20220907T151831Z
UID:10000557-1666458000-1666468800@su.ucalgary.ca
SUMMARY:Women's Volleyball at Mount Royal
DESCRIPTION:Women’s Volleyball at Mount Royal Calgary
URL:https://su.ucalgary.ca/calendar/womens-volleyball-at-mount-royal-2/
CATEGORIES:Dinos Athletics
END:VEVENT
BEGIN:VEVENT
DTSTART;TZID=America/Edmonton:20221022T180000
DTEND;TZID=America/Edmonton:20221022T210000
DTSTAMP:20260422T045051
CREATED:20220907T152030Z
LAST-MODIFIED:20220907T152030Z
UID:10000556-1666461600-1666472400@su.ucalgary.ca
SUMMARY:Men's Hockey vs Regina
DESCRIPTION:Men’s Hockey vs Regina Calgary
URL:https://su.ucalgary.ca/calendar/mens-hockey-vs-regina-2/
CATEGORIES:Dinos Athletics
END:VEVENT
BEGIN:VEVENT
DTSTART;TZID=America/Edmonton:20221022T190000
DTEND;TZID=America/Edmonton:20221022T220000
DTSTAMP:20260422T045051
CREATED:20220907T152030Z
LAST-MODIFIED:20220907T152030Z
UID:10000593-1666465200-1666476000@su.ucalgary.ca
SUMMARY:Men's Volleyball at Mount Royal
DESCRIPTION:Men’s Volleyball at Mount Royal Calgary
URL:https://su.ucalgary.ca/calendar/mens-volleyball-at-mount-royal-2/
CATEGORIES:Dinos Athletics
END:VEVENT
BEGIN:VEVENT
DTSTART;TZID=America/Edmonton:20221023T141500
DTEND;TZID=America/Edmonton:20221023T171500
DTSTAMP:20260422T045051
CREATED:20220907T152030Z
LAST-MODIFIED:20220907T152030Z
UID:10000604-1666534500-1666545300@su.ucalgary.ca
SUMMARY:Men's Soccer vs Alberta
DESCRIPTION:Men’s Soccer vs Alberta Calgary
URL:https://su.ucalgary.ca/calendar/mens-soccer-vs-alberta/
CATEGORIES:Dinos Athletics
END:VEVENT
END:VCALENDAR