BEGIN:VCALENDAR
VERSION:2.0
PRODID:-//Students&#039; Union, UCalgary - ECPv6.15.17.1//NONSGML v1.0//EN
CALSCALE:GREGORIAN
METHOD:PUBLISH
X-WR-CALNAME:Students&#039; Union, UCalgary
X-ORIGINAL-URL:https://su.ucalgary.ca
X-WR-CALDESC:Events for Students&#039; Union, UCalgary
REFRESH-INTERVAL;VALUE=DURATION:PT1H
X-Robots-Tag:noindex
X-PUBLISHED-TTL:PT1H
BEGIN:VTIMEZONE
TZID:America/Edmonton
BEGIN:DAYLIGHT
TZOFFSETFROM:-0700
TZOFFSETTO:-0600
TZNAME:MDT
DTSTART:20210314T090000
END:DAYLIGHT
BEGIN:STANDARD
TZOFFSETFROM:-0600
TZOFFSETTO:-0700
TZNAME:MST
DTSTART:20211107T080000
END:STANDARD
BEGIN:DAYLIGHT
TZOFFSETFROM:-0700
TZOFFSETTO:-0600
TZNAME:MDT
DTSTART:20220313T090000
END:DAYLIGHT
BEGIN:STANDARD
TZOFFSETFROM:-0600
TZOFFSETTO:-0700
TZNAME:MST
DTSTART:20221106T080000
END:STANDARD
BEGIN:DAYLIGHT
TZOFFSETFROM:-0700
TZOFFSETTO:-0600
TZNAME:MDT
DTSTART:20230312T090000
END:DAYLIGHT
BEGIN:STANDARD
TZOFFSETFROM:-0600
TZOFFSETTO:-0700
TZNAME:MST
DTSTART:20231105T080000
END:STANDARD
END:VTIMEZONE
BEGIN:VEVENT
DTSTART;TZID=America/Edmonton:20221101T123000
DTEND;TZID=America/Edmonton:20221101T133000
DTSTAMP:20260422T183231
CREATED:20220829T174217Z
LAST-MODIFIED:20220829T174305Z
UID:10000446-1667305800-1667309400@su.ucalgary.ca
SUMMARY:Mind & Body in the SPACE!
DESCRIPTION:Join us for Mind and Body in the Space! Starting September 6\, head to a yoga or meditation class where you’ll improve strength\, practice breathing techniques and relax in between classes. \nEvery Tuesday and Thursday! \nTuesdays – MEDITATION\, Thursdays – YOGA \nThat Empty Space is located on the lower level of MacEwan Student Centre\, next to Subway.
URL:https://su.ucalgary.ca/calendar/mind-body-in-the-space/2022-11-01/
LOCATION:That Empty Space: TES
CATEGORIES:SU
ORGANIZER;CN="Students' Union":MAILTO:reception@su.ucalgary.ca
END:VEVENT
BEGIN:VEVENT
DTSTART;TZID=America/Edmonton:20221103T123000
DTEND;TZID=America/Edmonton:20221103T133000
DTSTAMP:20260422T183231
CREATED:20220829T174653Z
LAST-MODIFIED:20220829T174653Z
UID:10000434-1667478600-1667482200@su.ucalgary.ca
SUMMARY:Mind & Body in the SPACE!
DESCRIPTION:Join us for Mind and Body in the Space! Starting September 6\, head to a yoga or meditation class where you’ll improve strength\, practice breathing techniques and relax in between classes. \nEvery Tuesday: Meditation and Thursday: Yoga! \nThat Empty Space is located on the lower level of MacEwan Student Centre\, next to Subway.
URL:https://su.ucalgary.ca/calendar/mind-body-in-the-space-2/2022-11-03/
LOCATION:That Empty Space: TES
CATEGORIES:SU
ORGANIZER;CN="Students' Union":MAILTO:reception@su.ucalgary.ca
END:VEVENT
BEGIN:VEVENT
DTSTART;TZID=America/Edmonton:20221104T180000
DTEND;TZID=America/Edmonton:20221104T210000
DTSTAMP:20260422T183231
CREATED:20220907T152230Z
LAST-MODIFIED:20220907T152230Z
UID:10000601-1667584800-1667595600@su.ucalgary.ca
SUMMARY:Women's Basketball vs UBC-Okanagan
DESCRIPTION:Women’s Basketball vs UBC-Okanagan Calgary
URL:https://su.ucalgary.ca/calendar/womens-basketball-vs-ubc-okanagan/
CATEGORIES:Dinos Athletics
END:VEVENT
BEGIN:VEVENT
DTSTART;TZID=America/Edmonton:20221104T190000
DTEND;TZID=America/Edmonton:20221104T220000
DTSTAMP:20260422T183231
CREATED:20220907T152230Z
LAST-MODIFIED:20220907T152230Z
UID:10000600-1667588400-1667599200@su.ucalgary.ca
SUMMARY:Men's Hockey vs UBC
DESCRIPTION:Men’s Hockey vs UBC Calgary
URL:https://su.ucalgary.ca/calendar/mens-hockey-vs-ubc/
CATEGORIES:Dinos Athletics
END:VEVENT
BEGIN:VEVENT
DTSTART;TZID=America/Edmonton:20221104T200000
DTEND;TZID=America/Edmonton:20221104T230000
DTSTAMP:20260422T183231
CREATED:20220907T152230Z
LAST-MODIFIED:20220907T152230Z
UID:10000599-1667592000-1667602800@su.ucalgary.ca
SUMMARY:Men's Basketball vs UBC-Okanagan
DESCRIPTION:Men’s Basketball vs UBC-Okanagan Calgary
URL:https://su.ucalgary.ca/calendar/mens-basketball-vs-ubc-okanagan/
CATEGORIES:Dinos Athletics
END:VEVENT
BEGIN:VEVENT
DTSTART;TZID=America/Edmonton:20221105T040000
DTEND;TZID=America/Edmonton:20221105T070000
DTSTAMP:20260422T183231
CREATED:20220907T152230Z
LAST-MODIFIED:20220907T152230Z
UID:10000598-1667620800-1667631600@su.ucalgary.ca
SUMMARY:Women's Basketball vs UBC-Okanagan
DESCRIPTION:Women’s Basketball vs UBC-Okanagan Calgary
URL:https://su.ucalgary.ca/calendar/womens-basketball-vs-ubc-okanagan-2/
CATEGORIES:Dinos Athletics
END:VEVENT
BEGIN:VEVENT
DTSTART;TZID=America/Edmonton:20221105T060000
DTEND;TZID=America/Edmonton:20221105T090000
DTSTAMP:20260422T183231
CREATED:20220907T152231Z
LAST-MODIFIED:20220907T152231Z
UID:10000597-1667628000-1667638800@su.ucalgary.ca
SUMMARY:Men's Basketball vs UBC-Okanagan
DESCRIPTION:Men’s Basketball vs UBC-Okanagan Calgary
URL:https://su.ucalgary.ca/calendar/mens-basketball-vs-ubc-okanagan-2/
CATEGORIES:Dinos Athletics
END:VEVENT
BEGIN:VEVENT
DTSTART;TZID=America/Edmonton:20221105T180000
DTEND;TZID=America/Edmonton:20221105T210000
DTSTAMP:20260422T183231
CREATED:20220907T152431Z
LAST-MODIFIED:20220907T152431Z
UID:10000596-1667671200-1667682000@su.ucalgary.ca
SUMMARY:Men's Hockey vs UBC
DESCRIPTION:Men’s Hockey vs UBC Calgary
URL:https://su.ucalgary.ca/calendar/mens-hockey-vs-ubc-2/
CATEGORIES:Dinos Athletics
END:VEVENT
END:VCALENDAR