BEGIN:VCALENDAR
VERSION:2.0
PRODID:-//Students&#039; Union, UCalgary - ECPv6.15.17.1//NONSGML v1.0//EN
CALSCALE:GREGORIAN
METHOD:PUBLISH
X-WR-CALNAME:Students&#039; Union, UCalgary
X-ORIGINAL-URL:https://su.ucalgary.ca
X-WR-CALDESC:Events for Students&#039; Union, UCalgary
REFRESH-INTERVAL;VALUE=DURATION:PT1H
X-Robots-Tag:noindex
X-PUBLISHED-TTL:PT1H
BEGIN:VTIMEZONE
TZID:America/Edmonton
BEGIN:DAYLIGHT
TZOFFSETFROM:-0700
TZOFFSETTO:-0600
TZNAME:MDT
DTSTART:20210314T090000
END:DAYLIGHT
BEGIN:STANDARD
TZOFFSETFROM:-0600
TZOFFSETTO:-0700
TZNAME:MST
DTSTART:20211107T080000
END:STANDARD
BEGIN:DAYLIGHT
TZOFFSETFROM:-0700
TZOFFSETTO:-0600
TZNAME:MDT
DTSTART:20220313T090000
END:DAYLIGHT
BEGIN:STANDARD
TZOFFSETFROM:-0600
TZOFFSETTO:-0700
TZNAME:MST
DTSTART:20221106T080000
END:STANDARD
BEGIN:DAYLIGHT
TZOFFSETFROM:-0700
TZOFFSETTO:-0600
TZNAME:MDT
DTSTART:20230312T090000
END:DAYLIGHT
BEGIN:STANDARD
TZOFFSETFROM:-0600
TZOFFSETTO:-0700
TZNAME:MST
DTSTART:20231105T080000
END:STANDARD
END:VTIMEZONE
BEGIN:VEVENT
DTSTART;TZID=America/Edmonton:20221122T123000
DTEND;TZID=America/Edmonton:20221122T133000
DTSTAMP:20260420T120924
CREATED:20220829T174217Z
LAST-MODIFIED:20220829T174305Z
UID:10000448-1669120200-1669123800@su.ucalgary.ca
SUMMARY:Mind & Body in the SPACE!
DESCRIPTION:Join us for Mind and Body in the Space! Starting September 6\, head to a yoga or meditation class where you’ll improve strength\, practice breathing techniques and relax in between classes. \nEvery Tuesday and Thursday! \nTuesdays – MEDITATION\, Thursdays – YOGA \nThat Empty Space is located on the lower level of MacEwan Student Centre\, next to Subway.
URL:https://su.ucalgary.ca/calendar/mind-body-in-the-space/2022-11-22/
LOCATION:That Empty Space: TES
CATEGORIES:SU
ORGANIZER;CN="Students' Union":MAILTO:reception@su.ucalgary.ca
END:VEVENT
BEGIN:VEVENT
DTSTART;TZID=America/Edmonton:20221123T100000
DTEND;TZID=America/Edmonton:20221123T110000
DTSTAMP:20260420T120924
CREATED:20221013T184937Z
LAST-MODIFIED:20221013T212703Z
UID:10000495-1669197600-1669201200@su.ucalgary.ca
SUMMARY:URS Workshop: How to Conduct a Literature Review
DESCRIPTION:This is a great session for new researchers to learn how to find relevant papers\, how to read papers properly\, and how to structure and write a solid literature review! \nHosted by Reeana Tazreean (Cumming School of Medicine Rep) in collaboration with Dr. Khara Sauro (Assistant Professor Community Health Sciences\, Oncology\, Surgery) \nAttendees must register for this free event by clicking here: https://www.eventbrite.ca/e/441297461587
URL:https://su.ucalgary.ca/calendar/urs-workshop-how-to-conduct-a-literature-review/
LOCATION:Escalus
CATEGORIES:SU,URS
ORGANIZER;CN="Students' Union":MAILTO:reception@su.ucalgary.ca
END:VEVENT
BEGIN:VEVENT
DTSTART;TZID=America/Edmonton:20221123T120000
DTEND;TZID=America/Edmonton:20221123T130000
DTSTAMP:20260420T120924
CREATED:20221013T212125Z
LAST-MODIFIED:20221013T212237Z
UID:10000500-1669204800-1669208400@su.ucalgary.ca
SUMMARY:URS Workshop: Faculty of Arts Research - A Panel Discussion
DESCRIPTION:Learn about some of the many research and funding opportunities available to Faculty of Arts undergraduate students at UCalgary. Join your SU Arts Reps as they invite professors from various departments to share their ongoing and upcoming research projects\, including how students can begin or advance their own research careers. \nHosted by: Rachel Cabalteja & Areeba Nadeem (SU Arts Reps) \nAttendees must register for this free event by clicking here: https://www.eventbrite.ca/e/441301995147
URL:https://su.ucalgary.ca/calendar/urs-workshop-faculty-of-arts-research-a-panel-discussion/
LOCATION:Cassio
CATEGORIES:SU,URS
ORGANIZER;CN="Students' Union":MAILTO:reception@su.ucalgary.ca
END:VEVENT
BEGIN:VEVENT
DTSTART;TZID=America/Edmonton:20221123T130000
DTEND;TZID=America/Edmonton:20221123T140000
DTSTAMP:20260420T120925
CREATED:20221013T185256Z
LAST-MODIFIED:20221013T212524Z
UID:10000497-1669208400-1669212000@su.ucalgary.ca
SUMMARY:URS Workshop: How to Find Research Opportunities & Funding
DESCRIPTION:Get a clear idea of the entire process of finding research available to you\, approaching professors to get involved and get funding for conducting that research. The presentation will take students step by step and give tips and tricks. \nHosted by Harold Zhu (Science Rep) in collaboration with Biology Students’ Association \nAttendees must register for this free event by clicking here: https://www.eventbrite.ca/e/441286709427
URL:https://su.ucalgary.ca/calendar/how-to-find-research-opportunities-funding/
LOCATION:Bianca
CATEGORIES:SU,URS
ORGANIZER;CN="Students' Union":MAILTO:reception@su.ucalgary.ca
END:VEVENT
BEGIN:VEVENT
DTSTART;TZID=America/Edmonton:20221123T130000
DTEND;TZID=America/Edmonton:20221123T140000
DTSTAMP:20260420T120925
CREATED:20221013T185110Z
LAST-MODIFIED:20221013T212614Z
UID:10000496-1669208400-1669212000@su.ucalgary.ca
SUMMARY:URS Workshop: Find Your Voice: Performance and Vocal Techniques for Engaging Presentations
DESCRIPTION:Learn techniques to more confidently present your presentations. Techniques for breath\, projection\, memorization\, resonance\, articulation\, phrasing\, clarity\, audience engagement\, and managing nerves will be explained\, demonstrated\, and practiced in an inclusive and supportive environment. You will also gain strategies for mental preparedness and how to recover when presentations veer off course. Participants will leave with a variety of practical exercises based in vocal pedagogy\, performance training\, and public speaking. In the words of Sofia Carson\, you were made to be loud! \nHosted by Merran Carr-Wiggins (Learning and Engagement Librarian)\, Taylor Family Digital Library \nAttendees must register for this free event by clicking here: https://www.eventbrite.ca/e/441240631607
URL:https://su.ucalgary.ca/calendar/urs-workshop-find-your-voice-performance-and-vocal-techniques-for-engaging-presentations/
LOCATION:Escalus
CATEGORIES:SU,URS
ORGANIZER;CN="Students' Union":MAILTO:reception@su.ucalgary.ca
END:VEVENT
BEGIN:VEVENT
DTSTART;TZID=America/Edmonton:20221123T130000
DTEND;TZID=America/Edmonton:20221123T160000
DTSTAMP:20260420T120925
CREATED:20221107T203704Z
LAST-MODIFIED:20221107T203704Z
UID:10000502-1669208400-1669219200@su.ucalgary.ca
SUMMARY:Good Food Box: Order Pickup
DESCRIPTION:Come to the Volunteer Services Office in Room 225\, MacEwan Student Centre (MSC 225) with your order receipt. \nPICKUP will begin at 1:00PM\, November 23. Orders not picked up by 4:00pm on Friday\, November 25\, will be forfeited with no refund or compensation.
URL:https://su.ucalgary.ca/calendar/good-food-box-order-pickup/
LOCATION:2500 University Drive NW\, Calgary\, Alberta\, T2N1N4\, Canada
CATEGORIES:SU
ORGANIZER;CN="Students' Union":MAILTO:reception@su.ucalgary.ca
END:VEVENT
BEGIN:VEVENT
DTSTART;TZID=America/Edmonton:20221123T143000
DTEND;TZID=America/Edmonton:20221123T153000
DTSTAMP:20260420T120925
CREATED:20221013T185501Z
LAST-MODIFIED:20221013T212435Z
UID:10000498-1669213800-1669217400@su.ucalgary.ca
SUMMARY:URS Workshop: How to Find & Approach Professors for a Mitacs Accelerate Project (STEM focused)
DESCRIPTION:Mitacs is a national not-for-profit that helps industry and non-profit partners solve strategic challenges by leveraging Canada’s world-class post-secondary talent and a global network of industry\, academic\, and government partnerships. Undergraduate students will learn about the latest updates in Mitacs funding opportunities\, including our most popular program\, Accelerate. Mitacs supports collaborative research and innovation projects between industry and academia\, and these paid internship projects will provide valuable experience for their future careers. Students will also learn about strategies for finding and approaching professors in the STEM fields for a Mitacs Accelerate project. \nHosted by Annie Hoang from MITACS \nAttendees must register for this free event by clicking here: https://www.eventbrite.ca/e/441282998327
URL:https://su.ucalgary.ca/calendar/urs-workshop-how-to-find-approach-professors-for-a-mitacs-accelerate-project-stem-focused/
LOCATION:Escalus
CATEGORIES:SU,URS
ORGANIZER;CN="Students' Union":MAILTO:reception@su.ucalgary.ca
END:VEVENT
BEGIN:VEVENT
DTSTART;TZID=America/Edmonton:20221123T143000
DTEND;TZID=America/Edmonton:20221123T153000
DTSTAMP:20260420T120925
CREATED:20221013T185621Z
LAST-MODIFIED:20221013T212341Z
UID:10000499-1669213800-1669217400@su.ucalgary.ca
SUMMARY:URS Workshop: How to Find & Approach Professors for a Mitacs Accelerate Project (Humanities focused)
DESCRIPTION:Mitacs is a national not-for-profit that helps industry and non-profit partners solve strategic challenges by leveraging Canada’s world-class post-secondary talent and a global network of industry\, academic\, and government partnerships. Undergraduate students will learn about the latest updates in Mitacs funding opportunities\, including our most popular program\, Accelerate. Mitacs supports collaborative research and innovation projects between industry and academia\, and these paid internship projects will provide valuable experience for their future careers. Students will also learn about strategies for finding and approaching professors in the Humanities field for a Mitacs Accelerate project. \nHosted by Sarah Topps from MITACS \nAttendees must register for this free event by clicking here: https://www.eventbrite.ca/e/441286157777
URL:https://su.ucalgary.ca/calendar/urs-workshop-how-to-find-approach-professors-for-a-mitacs-accelerate-project-humanities-focused/
LOCATION:Cassio
CATEGORIES:SU,URS
ORGANIZER;CN="Students' Union":MAILTO:reception@su.ucalgary.ca
END:VEVENT
BEGIN:VEVENT
DTSTART;TZID=America/Edmonton:20221124T100000
DTEND;TZID=America/Edmonton:20221124T153000
DTSTAMP:20260420T120925
CREATED:20221118T200222Z
LAST-MODIFIED:20221118T200320Z
UID:10000503-1669284000-1669303800@su.ucalgary.ca
SUMMARY:URS: Presentation Schedule
DESCRIPTION:The SU’s 17th annual Undergraduate Research Symposium is happening this week. On Wednesday\, we are hosting six different research workshops with topics like how to find research opportunities and even presentation techniques. On Thursday\, we celebrate the undergraduate research award winners with an all-day drop-in event in MacEwan Hall. \nDrop by any time beginning at 10:00 a.m. to see short presentations from across all faculties! \nWe wish to thank our keynote speaker\, Penny Pexman\, for opening the 2022 Undergraduate Research Symposium. \n \n  \nPenny Pexman is currently Professor of Psychology and Associate Vice-President (Research) at the University of Calgary. Penny earned her PhD in Psychology at the University of Western Ontario in 1998 and joined the University of Calgary the same year. Her research expertise is in psycholinguistics\, cognitive neuroscience\, and social-cognitive development. In broad terms\, she is interested in how we derive meaning from language\, and how those processes are changed by context or experience. Her research investigates several aspects of language understanding\, ranging from lexical-semantic processes to figurative language. Penny has published over 150 journal articles and book chapters on those topics. An award-winning teacher\, mentor\, and researcher\, Penny is an elected Fellow of both the Canadian Psychological Association and the Association for Psychological Science. \n  \n  \n  \nFull schedule of presenters:\n\n\n\n\n	Start\n  TimeEnd TimeNameAward NamePresentation\n  Title\n\n\n\n\n	10:00AM10:05AMShaziah Jinnah\n  Morsette Welcome Speech\n\n\n	10:05AM10:25AMPenny Pexman Keynote Address\n\n\n	10:25AM10:30AMShaziah Jinnah\n  Morsette Awards Introduction\n\n\n	10:30AM10:40AMMuhammad AnsariSchulich School of\n  Engineering AwardUnderstanding\n  Persistent-Post Concussion Symptoms Using Quantitative Susceptibility Mapping\n\n\n	10:40AM10:50AMEmily ChowFaculty of Science\n  AwardIdentifying signal\n  transduction pathways in breast cancer that contribute to bone metastasis.\n\n\n	10:50AM11:00AMBen ShiOffice of the\n  Vice-President Research AwardThe Assessment of\n  Saccadic Eye Movements Post Stroke\n\n\n	11:00AM11:10AMGabriella Joyce\n  GelinasFaculty of Science\n  AwardPrecision Mass\n  Measurements of Exotic Nuclei with TITAN\n\n\n	11:10AM11:20AMClaire McPhersonCampus Mental Health\n  Strategy AwardThe Prevalence of\n  Self-Harm\, Suicidal Ideation\, and Suicide Attempts in Bulimia Nervosa: A\n  Systematic Review and Meta-Analysis\n\n\n	11:20AM11:30AMCeleste HolyDepartment of\n  Psychology AwardGlobal Changes in\n  Child and Adolescent Mental Health from Prior to During COVID-19 Pandemic\n\n\n	11:30AM11:40AMVishnu Shiv DhandaUndergraduate\n  Aspiring Innovator AwardDeveloping accurate\n  geometries to conduct effective analysis on 3D printed carbon fiber parts\n\n\n	11:40AM11:50AMCamille EamonVice-Provost Teaching\n  and Learning AwardThe Link Between\n  Visuomotor Learning and Proprioceptive Impairments After Stroke\n\n\n	11:50AM12:00PMMunesah RahmanWerklund School of\n  Education AwardChanges in Students’\n  Written Communication of Strategies and Challenges with Iterative Board-Game\n  Play\n\n\n	12:00PM12:10PMAlicia Carrie Broznyii’ taa’poh’to’p\n  Indigenous Strategy Award The responsibility of\n  higher education institutions: Retention factors of Indigenous students\n\n\n	12:10PM12:20PMDanielle GreenbergOffice of the Vice\n  Provost (Libraries and Cultural Resources) Award Runner-upModern Acedia and the\n  Concept of 'Oversaturation': Evidence from the Last 25 Years\n\n\n	12:20PM12:30PMIshaan CheemaUndergraduate\n  Aspiring Innovator AwardCurrent practices\n  regarding neuromuscular training warm-up programs in youth field hockey\n\n\n	12:30PM12:40PMEmily ChangOffice of the Vice\n  Provost (Libraries and Cultural Resources) AwardMechanistic study of\n  a novel method of synthesizing a crucial drug scaffold – azetidine\n\n\n	12:40PM12:50PMEmily LaycockThe GSA Future\n  Innovator Award Runner-upState-of-the-Art in\n  Interpretable Deep Learning Analysis of Fundus Images to Identify Eye Cancer:\n  Black Box to Glass Box\n\n\n	12:50PM1:00PMDaniel SikstromSU Sustainability\n  AwardPerovskite-type\n  Nd1-xBaxCo0.8Fe0.2O3-d (0 = x = 0.7) Cathodes for Intermediate Temperature\n  Solid Oxide Fuel Cells\n\n\n	1:00PM1:10PMTessa Marie ChomistekPresident's Award for\n  Research ExcellenceCognitive Functioning\n  and Social Outcomes among Survivors of Childhood Brain Tumour\n\n\n	1:10PM1:20PMTaye LouieProgram in\n  Undergraduate Research Experience AwardNovel Methods for the\n  Measurement of Cell Vibrations Using Optical Tweezers\n\n\n	1:20PM1:30PMAnika AchariThe GSA Future\n  Innovator AwardMachine Learning\n  Based Predictive Modeling for Patients with Irritable Bowel Syndrome and\n  Inflammatory Bowel Disease\n\n\n	1:30PM1:40PMDinithi MudaligeFaculty of Science\n  Award Runner-upLongitudinal\n  Associations Between Mild Behavioral Impairment (MBI)\, Sleep Disturbance\, and\n  Progression to Dementia\n\n\n	1:40PM1:50PMMalana LoxamSU Sustainability\n  Award Runner-upOff-grid subsoil\n  aeration systems to mitigate fugitive gas migration around\n  "low-leaker" energy wells (OGSAS Methane Biofilter)\n\n\n	1:50PM2:00PMNoelle Elizabeth\n  ThundathilOffice of the\n  Vice-President Research AwardA molecular genetic\n  investigation into the origins of anthelmintic drug resistance in Ancylostoma\n  caninum in pet dogs across the USA\n\n\n	2:00PM2:10PMMuhammad ShakirCumming School of\n  Medicine AwardApplying light sheet\n  microscopy to study facial development in mice embryos\n\n\n	2:10PM2:20PMBatool Mahdi\n  AlMousawiOffice of the\n  Vice-President Research AwardGlobal Changes in\n  Child and Adolescent Emergency Department Presentations for Suicide Attempts\n  Prior to During the COVID-19 Pandemic\n\n\n	2:20PM2:30PMSrinidhi KotikalapudiFuture Alumni\n  Community Impact AwardERK activation during\n  postnatal development in a mouse model of Fragile X Syndrome and wildtype\n  mice\n\n\n	2:30PM2:40PMAthena Jamie LiuFaculty of Nursing\n  Student Impact AwardFeasibility of\n  Incorporating the Applied Suicide Intervention Skills Training Program into\n  Nursing Education\n\n\n	2:40PM2:50PMMackenzie Kaitlyn\n  McManusProgram in\n  Undergraduate Research Experience AwardEntamoeba histolytica\n  (Eh)-induced IL-8 secretion from high MUC2 mucin-producing goblet cells is\n  regulated by the PI3K-Akt signaling pathway\n\n\n	2:50PM3:00PMJenny DuongOffice of the\n  Vice-President Research AwardBarriers and enablers\n  to engaging under-represented AYAs in cancer research: a pilot study\n\n\n	3:00PM3:10PMTherse PoulinFaculty of Science\n  AwardPatient and family\n  perceptions of research coordinator attire in the intensive care unit: A\n  cross-sectional survey\n\n\n	3:10PM3:20PMLana ColesUndergraduate\n  Aspiring Innovator AwardThe Contemporary\n  Aesthetics of Adolescence: How Euphoria uses style to spectacularize\n  representation of modern youth in the articulation of a teenage gaze\n\n\n	3:20PM3:30PMKenza FilaliSchulich School of\n  Engineering AwardThe effect cognitive\n  distortions have on the emotional wellbeing in first year engineering\n  students
URL:https://su.ucalgary.ca/calendar/urs-presentation-schedule/
LOCATION:MacEwan Hall
CATEGORIES:SU,URS
ATTACH;FMTTYPE=image/jpeg:https://su.ucalgary.ca/wp-content/uploads/URS-widebkgd-CROP-1.jpg
ORGANIZER;CN="Students' Union":MAILTO:reception@su.ucalgary.ca
END:VEVENT
BEGIN:VEVENT
DTSTART;TZID=America/Edmonton:20221124T123000
DTEND;TZID=America/Edmonton:20221124T133000
DTSTAMP:20260420T120925
CREATED:20220829T174653Z
LAST-MODIFIED:20220829T174653Z
UID:10000436-1669293000-1669296600@su.ucalgary.ca
SUMMARY:Mind & Body in the SPACE!
DESCRIPTION:Join us for Mind and Body in the Space! Starting September 6\, head to a yoga or meditation class where you’ll improve strength\, practice breathing techniques and relax in between classes. \nEvery Tuesday: Meditation and Thursday: Yoga! \nThat Empty Space is located on the lower level of MacEwan Student Centre\, next to Subway.
URL:https://su.ucalgary.ca/calendar/mind-body-in-the-space-2/2022-11-24/
LOCATION:That Empty Space: TES
CATEGORIES:SU
ORGANIZER;CN="Students' Union":MAILTO:reception@su.ucalgary.ca
END:VEVENT
BEGIN:VEVENT
DTSTART;TZID=America/Edmonton:20221125T180000
DTEND;TZID=America/Edmonton:20221125T210000
DTSTAMP:20260420T120925
CREATED:20220907T152831Z
LAST-MODIFIED:20220907T152831Z
UID:10000467-1669399200-1669410000@su.ucalgary.ca
SUMMARY:Men's Volleyball vs Alberta
DESCRIPTION:Men’s Volleyball vs Alberta Calgary
URL:https://su.ucalgary.ca/calendar/mens-volleyball-vs-alberta-2/
CATEGORIES:Dinos Athletics
END:VEVENT
BEGIN:VEVENT
DTSTART;TZID=America/Edmonton:20221125T190000
DTEND;TZID=America/Edmonton:20221125T220000
DTSTAMP:20260420T120925
CREATED:20220907T152831Z
LAST-MODIFIED:20220907T152831Z
UID:10000469-1669402800-1669413600@su.ucalgary.ca
SUMMARY:Men's Hockey vs Alberta
DESCRIPTION:Men’s Hockey vs Alberta Calgary
URL:https://su.ucalgary.ca/calendar/mens-hockey-vs-alberta-2/
CATEGORIES:Dinos Athletics
END:VEVENT
BEGIN:VEVENT
DTSTART;TZID=America/Edmonton:20221125T194500
DTEND;TZID=America/Edmonton:20221125T224500
DTSTAMP:20260420T120925
CREATED:20220907T152831Z
LAST-MODIFIED:20220907T152831Z
UID:10000471-1669405500-1669416300@su.ucalgary.ca
SUMMARY:Women's Volleyball vs Alberta
DESCRIPTION:Women’s Volleyball vs Alberta Calgary
URL:https://su.ucalgary.ca/calendar/womens-volleyball-vs-alberta/
CATEGORIES:Dinos Athletics
END:VEVENT
BEGIN:VEVENT
DTSTART;TZID=America/Edmonton:20221126T180000
DTEND;TZID=America/Edmonton:20221126T210000
DTSTAMP:20260420T120925
CREATED:20220907T153030Z
LAST-MODIFIED:20220907T153030Z
UID:10000475-1669485600-1669496400@su.ucalgary.ca
SUMMARY:Women's Hockey vs Alberta
DESCRIPTION:Women’s Hockey vs Alberta Calgary
URL:https://su.ucalgary.ca/calendar/womens-hockey-vs-alberta/
CATEGORIES:Dinos Athletics
END:VEVENT
BEGIN:VEVENT
DTSTART;TZID=America/Edmonton:20221126T180000
DTEND;TZID=America/Edmonton:20221126T210000
DTSTAMP:20260420T120925
CREATED:20220907T152832Z
LAST-MODIFIED:20220907T152832Z
UID:10000473-1669485600-1669496400@su.ucalgary.ca
SUMMARY:Women's Volleyball vs Alberta
DESCRIPTION:Women’s Volleyball vs Alberta Calgary
URL:https://su.ucalgary.ca/calendar/womens-volleyball-vs-alberta-2/
CATEGORIES:Dinos Athletics
END:VEVENT
BEGIN:VEVENT
DTSTART;TZID=America/Edmonton:20221126T194500
DTEND;TZID=America/Edmonton:20221126T224500
DTSTAMP:20260420T120925
CREATED:20220907T153030Z
LAST-MODIFIED:20220907T153030Z
UID:10000477-1669491900-1669502700@su.ucalgary.ca
SUMMARY:Men's Volleyball vs Alberta
DESCRIPTION:Men’s Volleyball vs Alberta Calgary
URL:https://su.ucalgary.ca/calendar/mens-volleyball-vs-alberta-3/
CATEGORIES:Dinos Athletics
END:VEVENT
END:VCALENDAR