BEGIN:VCALENDAR
VERSION:2.0
PRODID:-//Students&#039; Union, UCalgary - ECPv6.15.17.1//NONSGML v1.0//EN
CALSCALE:GREGORIAN
METHOD:PUBLISH
X-WR-CALNAME:Students&#039; Union, UCalgary
X-ORIGINAL-URL:https://su.ucalgary.ca
X-WR-CALDESC:Events for Students&#039; Union, UCalgary
REFRESH-INTERVAL;VALUE=DURATION:PT1H
X-Robots-Tag:noindex
X-PUBLISHED-TTL:PT1H
BEGIN:VTIMEZONE
TZID:America/Edmonton
BEGIN:DAYLIGHT
TZOFFSETFROM:-0700
TZOFFSETTO:-0600
TZNAME:MDT
DTSTART:20210314T090000
END:DAYLIGHT
BEGIN:STANDARD
TZOFFSETFROM:-0600
TZOFFSETTO:-0700
TZNAME:MST
DTSTART:20211107T080000
END:STANDARD
BEGIN:DAYLIGHT
TZOFFSETFROM:-0700
TZOFFSETTO:-0600
TZNAME:MDT
DTSTART:20220313T090000
END:DAYLIGHT
BEGIN:STANDARD
TZOFFSETFROM:-0600
TZOFFSETTO:-0700
TZNAME:MST
DTSTART:20221106T080000
END:STANDARD
BEGIN:DAYLIGHT
TZOFFSETFROM:-0700
TZOFFSETTO:-0600
TZNAME:MDT
DTSTART:20230312T090000
END:DAYLIGHT
BEGIN:STANDARD
TZOFFSETFROM:-0600
TZOFFSETTO:-0700
TZNAME:MST
DTSTART:20231105T080000
END:STANDARD
END:VTIMEZONE
BEGIN:VEVENT
DTSTART;TZID=America/Edmonton:20221128T110000
DTEND;TZID=America/Edmonton:20221128T140000
DTSTAMP:20260424T105516
CREATED:20221128T193041Z
LAST-MODIFIED:20221128T193522Z
UID:10000504-1669633200-1669644000@su.ucalgary.ca
SUMMARY:Stress Less: Aromatherapy
DESCRIPTION:Come visit us for Aromatherapy Day on Monday\, November 28th in Mach Hall North Courtyard as part of our series of StressLess events. Get creative and make your own customized body scrubs\, body salts\, and calming room sprays! Aromatherapy is a great option for promoting calm atmospheres\, energy flow\, and even better sleep\, based on what you need.
URL:https://su.ucalgary.ca/calendar/stress-less-aromatherapy/
LOCATION:North Courtyard: MSC
CATEGORIES:Stress Less,SU
ORGANIZER;CN="Students' Union":MAILTO:reception@su.ucalgary.ca
END:VEVENT
BEGIN:VEVENT
DTSTART;TZID=America/Edmonton:20221128T133000
DTEND;TZID=America/Edmonton:20221128T150000
DTSTAMP:20260424T105516
CREATED:20220829T175227Z
LAST-MODIFIED:20230125T232510Z
UID:10000550-1669642200-1669647600@su.ucalgary.ca
SUMMARY:Pet Therapy
DESCRIPTION:We are so excited to announce that Pet therapy is coming back! PALS will be joining us again for Pet Therapy once a month. PALS provides Pet Visitation Therapy to address the stress that Students have to go through throughout their undergrad. \nThat Empty Space is located on the lower level of MacEwan Student Centre\, next to Subway.
URL:https://su.ucalgary.ca/calendar/pet-therapy/2022-11-28/
LOCATION:That Empty Space: TES
CATEGORIES:Stress Less,SU
ORGANIZER;CN="Students' Union":MAILTO:reception@su.ucalgary.ca
END:VEVENT
BEGIN:VEVENT
DTSTART;TZID=America/Edmonton:20221129T110000
DTEND;TZID=America/Edmonton:20221129T140000
DTSTAMP:20260424T105516
CREATED:20221128T193246Z
LAST-MODIFIED:20221128T193630Z
UID:10000632-1669719600-1669730400@su.ucalgary.ca
SUMMARY:Stress Less: Bracelets and Keychains
DESCRIPTION:Chill out this StressLess Week by creating your own beaded bracelet\, keychain\, or braided bracelets with the SU\, on Tuesday\, November 29th in Mac Hall North Courtyard. Beading can help us increase our strength and coordination of small hand muscles\, can be a relaxing way to spend your time\, and you can be proud of your creations.
URL:https://su.ucalgary.ca/calendar/stress-less-bracelets-and-keychains/
LOCATION:North Courtyard: MSC
CATEGORIES:Stress Less,SU
ORGANIZER;CN="Students' Union":MAILTO:reception@su.ucalgary.ca
END:VEVENT
BEGIN:VEVENT
DTSTART;TZID=America/Edmonton:20221129T123000
DTEND;TZID=America/Edmonton:20221129T133000
DTSTAMP:20260424T105516
CREATED:20220829T174217Z
LAST-MODIFIED:20220829T174305Z
UID:10000449-1669725000-1669728600@su.ucalgary.ca
SUMMARY:Mind & Body in the SPACE!
DESCRIPTION:Join us for Mind and Body in the Space! Starting September 6\, head to a yoga or meditation class where you’ll improve strength\, practice breathing techniques and relax in between classes. \nEvery Tuesday and Thursday! \nTuesdays – MEDITATION\, Thursdays – YOGA \nThat Empty Space is located on the lower level of MacEwan Student Centre\, next to Subway.
URL:https://su.ucalgary.ca/calendar/mind-body-in-the-space/2022-11-29/
LOCATION:That Empty Space: TES
CATEGORIES:SU
ORGANIZER;CN="Students' Union":MAILTO:reception@su.ucalgary.ca
END:VEVENT
BEGIN:VEVENT
DTSTART;TZID=America/Edmonton:20221130T110000
DTEND;TZID=America/Edmonton:20221130T140000
DTSTAMP:20260424T105516
CREATED:20221128T193826Z
LAST-MODIFIED:20221128T194156Z
UID:10000633-1669806000-1669816800@su.ucalgary.ca
SUMMARY:Stress Less: Sensory Day
DESCRIPTION:4 benefits of sensory play: \n\nRelieve stress and anxiety\nIncrease focus and concentration\nEnhance hand-eye coordination\nPromote creativity\n\nVisit us Wednesday\, November 30th in Mac Hall North Courtyard from 11-2 to destress with our sensory activities and get some cool take-home toys to continue stress relief at home!
URL:https://su.ucalgary.ca/calendar/stress-less-sensory-day/
LOCATION:North Courtyard: MSC
CATEGORIES:Stress Less,SU
ORGANIZER;CN="Students' Union":MAILTO:reception@su.ucalgary.ca
END:VEVENT
BEGIN:VEVENT
DTSTART;TZID=America/Edmonton:20221201T110000
DTEND;TZID=America/Edmonton:20221201T140000
DTSTAMP:20260424T105516
CREATED:20221128T193941Z
LAST-MODIFIED:20221128T193941Z
UID:10000634-1669892400-1669903200@su.ucalgary.ca
SUMMARY:Stress Less: Painting Day
DESCRIPTION:Pick a prompt and paint! Painting is a great way to bring out your creative side and play with colour. Join us on Thursday\, December 1st for painting in the Mac Hall North Courtyard during StressLess week!
URL:https://su.ucalgary.ca/calendar/stress-less-painting-day/
LOCATION:North Courtyard: MSC
CATEGORIES:Stress Less,SU
ORGANIZER;CN="Students' Union":MAILTO:reception@su.ucalgary.ca
END:VEVENT
BEGIN:VEVENT
DTSTART;TZID=America/Edmonton:20221201T123000
DTEND;TZID=America/Edmonton:20221201T133000
DTSTAMP:20260424T105516
CREATED:20220829T174653Z
LAST-MODIFIED:20220829T174653Z
UID:10000437-1669897800-1669901400@su.ucalgary.ca
SUMMARY:Mind & Body in the SPACE!
DESCRIPTION:Join us for Mind and Body in the Space! Starting September 6\, head to a yoga or meditation class where you’ll improve strength\, practice breathing techniques and relax in between classes. \nEvery Tuesday: Meditation and Thursday: Yoga! \nThat Empty Space is located on the lower level of MacEwan Student Centre\, next to Subway.
URL:https://su.ucalgary.ca/calendar/mind-body-in-the-space-2/2022-12-01/
LOCATION:That Empty Space: TES
CATEGORIES:SU
ORGANIZER;CN="Students' Union":MAILTO:reception@su.ucalgary.ca
END:VEVENT
BEGIN:VEVENT
DTSTART;TZID=America/Edmonton:20221202T110000
DTEND;TZID=America/Edmonton:20221202T140000
DTSTAMP:20260424T105516
CREATED:20221128T194103Z
LAST-MODIFIED:20221128T194103Z
UID:10000635-1669978800-1669989600@su.ucalgary.ca
SUMMARY:Stress Less: Origami Day
DESCRIPTION:Origami is the art of paper folding. This activity has a balance of structure with using fine lines and angles\, while also using your creativity with what to create and how to decorate your object. Come learn how to make your own origami friend to bring around campus with you on Friday\, December 2nd during StressLess Origami Day!
URL:https://su.ucalgary.ca/calendar/stress-less-origami-day/
LOCATION:North Courtyard: MSC
CATEGORIES:Stress Less,SU
ORGANIZER;CN="Students' Union":MAILTO:reception@su.ucalgary.ca
END:VEVENT
BEGIN:VEVENT
DTSTART;TZID=America/Edmonton:20221202T133000
DTEND;TZID=America/Edmonton:20221202T150000
DTSTAMP:20260424T105516
CREATED:20220829T175227Z
LAST-MODIFIED:20230125T232510Z
UID:10000551-1669987800-1669993200@su.ucalgary.ca
SUMMARY:Pet Therapy
DESCRIPTION:We are so excited to announce that Pet therapy is coming back! PALS will be joining us again for Pet Therapy once a month. PALS provides Pet Visitation Therapy to address the stress that Students have to go through throughout their undergrad. \nThat Empty Space is located on the lower level of MacEwan Student Centre\, next to Subway.
URL:https://su.ucalgary.ca/calendar/pet-therapy/2022-12-02/
LOCATION:That Empty Space: TES
CATEGORIES:Stress Less,SU
ORGANIZER;CN="Students' Union":MAILTO:reception@su.ucalgary.ca
END:VEVENT
BEGIN:VEVENT
DTSTART;TZID=America/Edmonton:20221202T180000
DTEND;TZID=America/Edmonton:20221202T210000
DTSTAMP:20260424T105516
CREATED:20220907T153030Z
LAST-MODIFIED:20220907T153030Z
UID:10000478-1670004000-1670014800@su.ucalgary.ca
SUMMARY:Men's Volleyball vs Thompson Rivers
DESCRIPTION:Men’s Volleyball vs Thompson Rivers Calgary
URL:https://su.ucalgary.ca/calendar/mens-volleyball-vs-thompson-rivers-2/
CATEGORIES:Dinos Athletics
END:VEVENT
BEGIN:VEVENT
DTSTART;TZID=America/Edmonton:20221202T190000
DTEND;TZID=America/Edmonton:20221202T220000
DTSTAMP:20260424T105516
CREATED:20220907T153031Z
LAST-MODIFIED:20220907T153031Z
UID:10000588-1670007600-1670018400@su.ucalgary.ca
SUMMARY:Women's Hockey vs Saskatchewan
DESCRIPTION:Women’s Hockey vs Saskatchewan Calgary
URL:https://su.ucalgary.ca/calendar/womens-hockey-vs-saskatchewan/
CATEGORIES:Dinos Athletics
END:VEVENT
BEGIN:VEVENT
DTSTART;TZID=America/Edmonton:20221202T194500
DTEND;TZID=America/Edmonton:20221202T224500
DTSTAMP:20260424T105516
CREATED:20220907T153031Z
LAST-MODIFIED:20220907T153031Z
UID:10000587-1670010300-1670021100@su.ucalgary.ca
SUMMARY:Women's Volleyball vs Thompson Rivers
DESCRIPTION:Women’s Volleyball vs Thompson Rivers Calgary
URL:https://su.ucalgary.ca/calendar/womens-volleyball-vs-thompson-rivers/
CATEGORIES:Dinos Athletics
END:VEVENT
BEGIN:VEVENT
DTSTART;TZID=America/Edmonton:20221203T180000
DTEND;TZID=America/Edmonton:20221203T210000
DTSTAMP:20260424T105516
CREATED:20220907T153230Z
LAST-MODIFIED:20220907T153230Z
UID:10000586-1670090400-1670101200@su.ucalgary.ca
SUMMARY:Women's Volleyball vs Thompson Rivers
DESCRIPTION:Women’s Volleyball vs Thompson Rivers Calgary
URL:https://su.ucalgary.ca/calendar/womens-volleyball-vs-thompson-rivers-2/
CATEGORIES:Dinos Athletics
END:VEVENT
BEGIN:VEVENT
DTSTART;TZID=America/Edmonton:20221203T180000
DTEND;TZID=America/Edmonton:20221203T210000
DTSTAMP:20260424T105516
CREATED:20220907T153230Z
LAST-MODIFIED:20220907T153230Z
UID:10000585-1670090400-1670101200@su.ucalgary.ca
SUMMARY:Women's Hockey vs Saskatchewan
DESCRIPTION:Women’s Hockey vs Saskatchewan Calgary
URL:https://su.ucalgary.ca/calendar/womens-hockey-vs-saskatchewan-2/
CATEGORIES:Dinos Athletics
END:VEVENT
BEGIN:VEVENT
DTSTART;TZID=America/Edmonton:20221203T194500
DTEND;TZID=America/Edmonton:20221203T224500
DTSTAMP:20260424T105516
CREATED:20220907T153230Z
LAST-MODIFIED:20220907T153230Z
UID:10000584-1670096700-1670107500@su.ucalgary.ca
SUMMARY:Men's Volleyball vs Thompson Rivers
DESCRIPTION:Men’s Volleyball vs Thompson Rivers Calgary
URL:https://su.ucalgary.ca/calendar/mens-volleyball-vs-thompson-rivers-3/
CATEGORIES:Dinos Athletics
END:VEVENT
END:VCALENDAR