BEGIN:VCALENDAR
VERSION:2.0
PRODID:-//Students&#039; Union, UCalgary - ECPv6.15.17.1//NONSGML v1.0//EN
CALSCALE:GREGORIAN
METHOD:PUBLISH
X-WR-CALNAME:Students&#039; Union, UCalgary
X-ORIGINAL-URL:https://su.ucalgary.ca
X-WR-CALDESC:Events for Students&#039; Union, UCalgary
REFRESH-INTERVAL;VALUE=DURATION:PT1H
X-Robots-Tag:noindex
X-PUBLISHED-TTL:PT1H
BEGIN:VTIMEZONE
TZID:America/Edmonton
BEGIN:DAYLIGHT
TZOFFSETFROM:-0700
TZOFFSETTO:-0600
TZNAME:MDT
DTSTART:20220313T090000
END:DAYLIGHT
BEGIN:STANDARD
TZOFFSETFROM:-0600
TZOFFSETTO:-0700
TZNAME:MST
DTSTART:20221106T080000
END:STANDARD
BEGIN:DAYLIGHT
TZOFFSETFROM:-0700
TZOFFSETTO:-0600
TZNAME:MDT
DTSTART:20230312T090000
END:DAYLIGHT
BEGIN:STANDARD
TZOFFSETFROM:-0600
TZOFFSETTO:-0700
TZNAME:MST
DTSTART:20231105T080000
END:STANDARD
BEGIN:DAYLIGHT
TZOFFSETFROM:-0700
TZOFFSETTO:-0600
TZNAME:MDT
DTSTART:20240310T090000
END:DAYLIGHT
BEGIN:STANDARD
TZOFFSETFROM:-0600
TZOFFSETTO:-0700
TZNAME:MST
DTSTART:20241103T080000
END:STANDARD
END:VTIMEZONE
BEGIN:VEVENT
DTSTART;VALUE=DATE:20230123
DTEND;VALUE=DATE:20230124
DTSTAMP:20260419T194722
CREATED:20221201T213128Z
LAST-MODIFIED:20221201T213128Z
UID:10000639-1674432000-1674518399@su.ucalgary.ca
SUMMARY:General Election 2023: Notice of Nomination
DESCRIPTION:Please see the Elections Docs page for the Nomination Package.
URL:https://su.ucalgary.ca/calendar/general-election-2023-notice-of-nomination/
LOCATION:Virtual Space\, Online
CATEGORIES:Elections,SU
ORGANIZER;CN="Students' Union":MAILTO:reception@su.ucalgary.ca
END:VEVENT
BEGIN:VEVENT
DTSTART;TZID=America/Edmonton:20230124T160000
DTEND;TZID=America/Edmonton:20230124T170000
DTSTAMP:20260419T194722
CREATED:20221201T210732Z
LAST-MODIFIED:20230123T212630Z
UID:10000637-1674576000-1674579600@su.ucalgary.ca
SUMMARY:General Election 2023: Workshop
DESCRIPTION:Pre-Election Orientation sessions are generally held two weeks prior to Nomination days in January for the General Election. The CRO conducts these workshops for potential candidates to provide them background about the Students’ Union (SU)\, Students’ Legislative Council (SLC)\, expectations as an elected official\, various aspects of running in a student election and about what happens if you’re elected. All prospective Candidates and Campaign Groups are strongly encouraged to attend at least one Pre-Election Orientation session before running in the Election. \nhttps://ucalgary.zoom.us/j/96515726313
URL:https://su.ucalgary.ca/calendar/general-election-2023-workshop/
LOCATION:Virtual Space\, Online
CATEGORIES:Elections,SU
ORGANIZER;CN="Students' Union":MAILTO:reception@su.ucalgary.ca
END:VEVENT
BEGIN:VEVENT
DTSTART;TZID=America/Edmonton:20230125T170000
DTEND;TZID=America/Edmonton:20230125T180000
DTSTAMP:20260419T194722
CREATED:20221201T210854Z
LAST-MODIFIED:20221201T210854Z
UID:10000638-1674666000-1674669600@su.ucalgary.ca
SUMMARY:General Election 2023: Workshop
DESCRIPTION:Pre-Election Orientation sessions are generally held two weeks prior to Nomination days in January for the General Election. The CRO conducts these workshops for potential candidates to provide them background about the Students’ Union (SU)\, Students’ Legislative Council (SLC)\, expectations as an elected official\, various aspects of running in a student election and about what happens if you’re elected. All prospective Candidates and Campaign Groups are strongly encouraged to attend at least one Pre-Election Orientation session before running in the Election.
URL:https://su.ucalgary.ca/calendar/general-election-2023-workshop-2/
LOCATION:Council Chambers: MSC
CATEGORIES:Elections,SU
ORGANIZER;CN="Students' Union":MAILTO:reception@su.ucalgary.ca
END:VEVENT
BEGIN:VEVENT
DTSTART;TZID=America/Edmonton:20230127T160000
DTEND;TZID=America/Edmonton:20230127T190000
DTSTAMP:20260419T194722
CREATED:20220907T154030Z
LAST-MODIFIED:20220907T154030Z
UID:10000625-1674835200-1674846000@su.ucalgary.ca
SUMMARY:Women's Hockey at Mount Royal
DESCRIPTION:Women’s Hockey at Mount Royal Calgary
URL:https://su.ucalgary.ca/calendar/womens-hockey-at-mount-royal-3/
CATEGORIES:Dinos Athletics
END:VEVENT
BEGIN:VEVENT
DTSTART;TZID=America/Edmonton:20230127T190000
DTEND;TZID=America/Edmonton:20230127T220000
DTSTAMP:20260419T194722
CREATED:20220907T154030Z
LAST-MODIFIED:20220907T154030Z
UID:10000485-1674846000-1674856800@su.ucalgary.ca
SUMMARY:Men's Hockey vs Mount Royal
DESCRIPTION:Men’s Hockey vs Mount Royal Calgary
URL:https://su.ucalgary.ca/calendar/mens-hockey-vs-mount-royal-3/
CATEGORIES:Dinos Athletics
END:VEVENT
BEGIN:VEVENT
DTSTART;TZID=America/Edmonton:20230128T180000
DTEND;TZID=America/Edmonton:20230128T210000
DTSTAMP:20260419T194722
CREATED:20220907T154030Z
LAST-MODIFIED:20220907T154030Z
UID:10000486-1674928800-1674939600@su.ucalgary.ca
SUMMARY:Women's Hockey vs Mount Royal
DESCRIPTION:Women’s Hockey vs Mount Royal Calgary
URL:https://su.ucalgary.ca/calendar/womens-hockey-vs-mount-royal-3/
CATEGORIES:Dinos Athletics
END:VEVENT
BEGIN:VEVENT
DTSTART;TZID=America/Edmonton:20230128T190000
DTEND;TZID=America/Edmonton:20230128T220000
DTSTAMP:20260419T194722
CREATED:20220907T154031Z
LAST-MODIFIED:20220907T154031Z
UID:10000487-1674932400-1674943200@su.ucalgary.ca
SUMMARY:Men's Hockey at Mount Royal
DESCRIPTION:Men’s Hockey at Mount Royal Calgary
URL:https://su.ucalgary.ca/calendar/mens-hockey-at-mount-royal-2/
CATEGORIES:Dinos Athletics
END:VEVENT
END:VCALENDAR