BEGIN:VCALENDAR
VERSION:2.0
PRODID:-//Students&#039; Union, UCalgary - ECPv6.15.17.1//NONSGML v1.0//EN
CALSCALE:GREGORIAN
METHOD:PUBLISH
X-WR-CALNAME:Students&#039; Union, UCalgary
X-ORIGINAL-URL:https://su.ucalgary.ca
X-WR-CALDESC:Events for Students&#039; Union, UCalgary
REFRESH-INTERVAL;VALUE=DURATION:PT1H
X-Robots-Tag:noindex
X-PUBLISHED-TTL:PT1H
BEGIN:VTIMEZONE
TZID:America/Edmonton
BEGIN:DAYLIGHT
TZOFFSETFROM:-0700
TZOFFSETTO:-0600
TZNAME:MDT
DTSTART:20220313T090000
END:DAYLIGHT
BEGIN:STANDARD
TZOFFSETFROM:-0600
TZOFFSETTO:-0700
TZNAME:MST
DTSTART:20221106T080000
END:STANDARD
BEGIN:DAYLIGHT
TZOFFSETFROM:-0700
TZOFFSETTO:-0600
TZNAME:MDT
DTSTART:20230312T090000
END:DAYLIGHT
BEGIN:STANDARD
TZOFFSETFROM:-0600
TZOFFSETTO:-0700
TZNAME:MST
DTSTART:20231105T080000
END:STANDARD
BEGIN:DAYLIGHT
TZOFFSETFROM:-0700
TZOFFSETTO:-0600
TZNAME:MDT
DTSTART:20240310T090000
END:DAYLIGHT
BEGIN:STANDARD
TZOFFSETFROM:-0600
TZOFFSETTO:-0700
TZNAME:MST
DTSTART:20241103T080000
END:STANDARD
END:VTIMEZONE
BEGIN:VEVENT
DTSTART;TZID=America/Edmonton:20231107T180000
DTEND;TZID=America/Edmonton:20231107T203000
DTSTAMP:20260421T053802
CREATED:20231031T212705Z
LAST-MODIFIED:20231031T212705Z
UID:10000715-1699380000-1699389000@su.ucalgary.ca
SUMMARY:90's Pop Culture Trivia Night
DESCRIPTION:Think you know everything there is to know about 90’s Pop Culture? Join us for a night of 90’s Pop Culture trivia at The Den on Nov 7th; great prizes and bragging rights are up for grabs. See you there!
URL:https://su.ucalgary.ca/calendar/90s-pop-culture-trivia-night/
LOCATION:2500 University Drive NW\, Calgary\, Alberta\, T2N1N4\, Canada
CATEGORIES:General
ORGANIZER;CN="Students' Union":MAILTO:reception@su.ucalgary.ca
END:VEVENT
BEGIN:VEVENT
DTSTART;TZID=America/Edmonton:20231108T160000
DTEND;TZID=America/Edmonton:20231108T200000
DTSTAMP:20260421T053802
CREATED:20230907T200654Z
LAST-MODIFIED:20230907T200654Z
UID:10000689-1699459200-1699473600@su.ucalgary.ca
SUMMARY:Wing Night at The Den
DESCRIPTION:Wing Wednesday – 50% off per pound of wings at The Den
URL:https://su.ucalgary.ca/calendar/wing-night-at-the-den/2023-11-08/
LOCATION:The Den/Black Lounge\, 2500 University Drive NW (MH 101)\, Calgary\, Alberta\, T2N1N4\, Canada
ORGANIZER;CN="Students' Union":MAILTO:reception@su.ucalgary.ca
END:VEVENT
END:VCALENDAR