BEGIN:VCALENDAR
VERSION:2.0
PRODID:-//Students&#039; Union, UCalgary - ECPv6.15.17.1//NONSGML v1.0//EN
CALSCALE:GREGORIAN
METHOD:PUBLISH
X-WR-CALNAME:Students&#039; Union, UCalgary
X-ORIGINAL-URL:https://su.ucalgary.ca
X-WR-CALDESC:Events for Students&#039; Union, UCalgary
REFRESH-INTERVAL;VALUE=DURATION:PT1H
X-Robots-Tag:noindex
X-PUBLISHED-TTL:PT1H
BEGIN:VTIMEZONE
TZID:America/Edmonton
BEGIN:DAYLIGHT
TZOFFSETFROM:-0700
TZOFFSETTO:-0600
TZNAME:MDT
DTSTART:20230312T090000
END:DAYLIGHT
BEGIN:STANDARD
TZOFFSETFROM:-0600
TZOFFSETTO:-0700
TZNAME:MST
DTSTART:20231105T080000
END:STANDARD
BEGIN:DAYLIGHT
TZOFFSETFROM:-0700
TZOFFSETTO:-0600
TZNAME:MDT
DTSTART:20240310T090000
END:DAYLIGHT
BEGIN:STANDARD
TZOFFSETFROM:-0600
TZOFFSETTO:-0700
TZNAME:MST
DTSTART:20241103T080000
END:STANDARD
BEGIN:DAYLIGHT
TZOFFSETFROM:-0700
TZOFFSETTO:-0600
TZNAME:MDT
DTSTART:20250309T090000
END:DAYLIGHT
BEGIN:STANDARD
TZOFFSETFROM:-0600
TZOFFSETTO:-0700
TZNAME:MST
DTSTART:20251102T080000
END:STANDARD
END:VTIMEZONE
BEGIN:VEVENT
DTSTART;TZID=America/Edmonton:20240122T090000
DTEND;TZID=America/Edmonton:20240122T100000
DTSTAMP:20260421T221950
CREATED:20240108T210756Z
LAST-MODIFIED:20240118T160004Z
UID:10000753-1705914000-1705917600@su.ucalgary.ca
SUMMARY:Teaching Excellence Awards: Nominations Open
DESCRIPTION:Do you have a professor that inspires you?\nIs your instructor passionate about teaching?\nDoes your TA always go that extra mile to ensure you succeed?\nNominate them for a Teaching Excellence Award!\n\nSince 1984\, your SU has invited students to nominate U of C instructors who have had a positive impact on their undergraduate learning experience and academic careers. The SU Teaching Excellence Awards is the only campus-wide recognition program for those instructors who make a long-lasting impact on students. \nNominate your prof or TA! \nNOMINATE
URL:https://su.ucalgary.ca/calendar/teaching-excellence-awards-nominations-open/
LOCATION:Virtual Space\, Online
ORGANIZER;CN="Students' Union":MAILTO:reception@su.ucalgary.ca
END:VEVENT
BEGIN:VEVENT
DTSTART;TZID=America/Edmonton:20240123T153000
DTEND;TZID=America/Edmonton:20240123T160000
DTSTAMP:20260421T221950
CREATED:20240122T171725Z
LAST-MODIFIED:20240122T173809Z
UID:10000769-1706023800-1706025600@su.ucalgary.ca
SUMMARY:Good Food Box - JANUARY ORDER DEADLINE
DESCRIPTION:The SU Campus Food Bank is an official depot for the Good Food Box program and our services are open to the campus community! \nThe Good Food Box program is run through the Community Kitchen Program of Calgary and aims to provide community members with greater access to affordable\, nutritious and sustainable fresh fruits and vegetables. The program purchases produce directly from local farmers and wholesalers. The program is run by volunteers that pack the boxes full of fruits and vegetables to be delivered to depots across the city. \n\nPickup dates for this order date is January 31 to February 2. Please confirm times at time of order.\nOrders NOT PICKED UP by 4:00 PM on February 2 will be discarded. No refunds.\n\n\n\n\nSmall/Senior Box\n\n20+ lbs. of produce\n$30.00\n\n\n\n\n\n\n\nMedium Box\n\n30+ lbs. of produce\n$35.00\n\n\n\n\n\n\n\nLarge Box\n\n40+ lbs. of produce\n$40.00
URL:https://su.ucalgary.ca/calendar/good-food-box-jan-order-deadline/
CATEGORIES:SU,Volunteer Services
ORGANIZER;CN="Students' Union":MAILTO:reception@su.ucalgary.ca
END:VEVENT
BEGIN:VEVENT
DTSTART;TZID=America/Edmonton:20240123T180000
DTEND;TZID=America/Edmonton:20240123T203000
DTSTAMP:20260421T221950
CREATED:20231027T174918Z
LAST-MODIFIED:20240118T172010Z
UID:10000708-1706032800-1706041800@su.ucalgary.ca
SUMMARY:Barbie Trivia Night
DESCRIPTION:  \n  \n  \n  \n  \n  \n  \nThink you know everything there is to know about Barbie? Join us for a night of Barbie trivia at The Den on January 23rd; great prizes and bragging rights are up for grabs. See you there!
URL:https://su.ucalgary.ca/calendar/barbie-trivia-night/
CATEGORIES:Den
ORGANIZER;CN="Students' Union":MAILTO:reception@su.ucalgary.ca
END:VEVENT
BEGIN:VEVENT
DTSTART;TZID=America/Edmonton:20240124T100000
DTEND;TZID=America/Edmonton:20240124T140000
DTSTAMP:20260421T221950
CREATED:20240108T210950Z
LAST-MODIFIED:20240112T190310Z
UID:10000755-1706090400-1706104800@su.ucalgary.ca
SUMMARY:SU Volunteer Fair
DESCRIPTION:Are you looking for your volunteering niche? Join us in the Mac Hall North Courtyard on Wednesday\, Jan. 24 from 10 a.m. until 2 p.m. to connect with volunteer organizations from across Calgary.
URL:https://su.ucalgary.ca/calendar/su-volunteer-fair/
CATEGORIES:General,General,SU
ORGANIZER;CN="Students' Union":MAILTO:reception@su.ucalgary.ca
END:VEVENT
BEGIN:VEVENT
DTSTART;TZID=America/Edmonton:20240125T163000
DTEND;TZID=America/Edmonton:20240125T180000
DTSTAMP:20260421T221950
CREATED:20240118T174926Z
LAST-MODIFIED:20240118T185054Z
UID:10000766-1706200200-1706205600@su.ucalgary.ca
SUMMARY:C of Red at The Den
DESCRIPTION:  \n  \n  \n  \n  \n  \nJoin the Pre-game at The Den before heading to the ‘Dome’ to see the Flames.
URL:https://su.ucalgary.ca/calendar/c-of-red-at-the-den/
CATEGORIES:Den
ORGANIZER;CN="Students' Union":MAILTO:reception@su.ucalgary.ca
END:VEVENT
BEGIN:VEVENT
DTSTART;TZID=America/Edmonton:20240126T170000
DTEND;TZID=America/Edmonton:20240126T170000
DTSTAMP:20260421T221950
CREATED:20240108T211136Z
LAST-MODIFIED:20240108T211152Z
UID:10000757-1706288400-1706288400@su.ucalgary.ca
SUMMARY:Health and Dental Plan Deadline
DESCRIPTION:Health and Dental Plan Deadline (Opt-out and Family Add-on) \nIf you are a new student this semester\, you should know that you are automatically enrolled in the SU’s health and dental plan. If you have alternate coverage\, you may opt out by Jan. 26. \nIf January is your enrolment anniversary (you are not a new student but you started at UCalgary in a previous January)\, then this is also your annual deadline for adding family members. Details and forms are all here at: https://www.mystudentplan.ca/uofcalgary
URL:https://su.ucalgary.ca/calendar/health-and-dental-plan-deadline/
ORGANIZER;CN="Students' Union":MAILTO:reception@su.ucalgary.ca
END:VEVENT
END:VCALENDAR