BEGIN:VCALENDAR
VERSION:2.0
PRODID:-//Students&#039; Union, UCalgary - ECPv6.15.17.1//NONSGML v1.0//EN
CALSCALE:GREGORIAN
METHOD:PUBLISH
X-WR-CALNAME:Students&#039; Union, UCalgary
X-ORIGINAL-URL:https://su.ucalgary.ca
X-WR-CALDESC:Events for Students&#039; Union, UCalgary
REFRESH-INTERVAL;VALUE=DURATION:PT1H
X-Robots-Tag:noindex
X-PUBLISHED-TTL:PT1H
BEGIN:VTIMEZONE
TZID:America/Edmonton
BEGIN:DAYLIGHT
TZOFFSETFROM:-0700
TZOFFSETTO:-0600
TZNAME:MDT
DTSTART:20230312T090000
END:DAYLIGHT
BEGIN:STANDARD
TZOFFSETFROM:-0600
TZOFFSETTO:-0700
TZNAME:MST
DTSTART:20231105T080000
END:STANDARD
BEGIN:DAYLIGHT
TZOFFSETFROM:-0700
TZOFFSETTO:-0600
TZNAME:MDT
DTSTART:20240310T090000
END:DAYLIGHT
BEGIN:STANDARD
TZOFFSETFROM:-0600
TZOFFSETTO:-0700
TZNAME:MST
DTSTART:20241103T080000
END:STANDARD
BEGIN:DAYLIGHT
TZOFFSETFROM:-0700
TZOFFSETTO:-0600
TZNAME:MDT
DTSTART:20250309T090000
END:DAYLIGHT
BEGIN:STANDARD
TZOFFSETFROM:-0600
TZOFFSETTO:-0700
TZNAME:MST
DTSTART:20251102T080000
END:STANDARD
END:VTIMEZONE
BEGIN:VEVENT
DTSTART;TZID=America/Edmonton:20240227T100000
DTEND;TZID=America/Edmonton:20240227T140000
DTSTAMP:20260420T160055
CREATED:20240222T192753Z
LAST-MODIFIED:20240223T182749Z
UID:10000796-1709028000-1709042400@su.ucalgary.ca
SUMMARY:SU Election Candidate Fair
DESCRIPTION:Join us next week! Come meet your candidates for Faculty rep and students at large positions! The SU Election Candidate Fair will take place in Mac Hall North Courtyard from 10 am- 2 pm on Tuesday\, February 27.
URL:https://su.ucalgary.ca/calendar/su-election-candidate-fair/
LOCATION:North Courtyard: MSC
CATEGORIES:Elections
ORGANIZER;CN="Students' Union":MAILTO:reception@su.ucalgary.ca
END:VEVENT
BEGIN:VEVENT
DTSTART;TZID=America/Edmonton:20240227T180000
DTEND;TZID=America/Edmonton:20240227T203000
DTSTAMP:20260420T160055
CREATED:20231214T204620Z
LAST-MODIFIED:20240118T161734Z
UID:10000729-1709056800-1709065800@su.ucalgary.ca
SUMMARY:Taylor Swift Trivia Night
DESCRIPTION:Think you know everything there is to know about Taylor Swift ? Join us for a night of Taylor Swift trivia at The Den on Feb 27th; great prizes and bragging rights are up for grabs. See you there!
URL:https://su.ucalgary.ca/calendar/taylor-swift-trivia-night-2/
CATEGORIES:Den
ORGANIZER;CN="Students' Union":MAILTO:reception@su.ucalgary.ca
END:VEVENT
BEGIN:VEVENT
DTSTART;TZID=America/Edmonton:20240228T120000
DTEND;TZID=America/Edmonton:20240228T130000
DTSTAMP:20260420T160055
CREATED:20240226T171531Z
LAST-MODIFIED:20240226T171531Z
UID:10000797-1709121600-1709125200@su.ucalgary.ca
SUMMARY:VP External Forum
DESCRIPTION:
URL:https://su.ucalgary.ca/calendar/vp-external-forum-2/
CATEGORIES:Elections
ORGANIZER;CN="Students' Union":MAILTO:reception@su.ucalgary.ca
END:VEVENT
BEGIN:VEVENT
DTSTART;VALUE=DATE:20240229
DTEND;VALUE=DATE:20240412
DTSTAMP:20260420T160055
CREATED:20240108T210456Z
LAST-MODIFIED:20240108T210456Z
UID:10000752-1709164800-1712879999@su.ucalgary.ca
SUMMARY:Volunteer Tax Program Clinic: Book Your Appointment
DESCRIPTION:The Volunteer Tax Program is here to help you with your taxes. We provide free tax filing services by professional student volunteers who are trained by the Canada Revenue Agency. All U of C students\, staff\, and faculty (with campus ID) are welcome to use our services. \nVisit our page to begin the process: see who is eligible\, what to bring\, and book an appointment. \nThe Tax Clinic is by-appointment-only so be sure to book your time!
URL:https://su.ucalgary.ca/calendar/volunteer-tax-program-clinic-book-your-appointment/
LOCATION:TBA
CATEGORIES:SU,Tax Program
ORGANIZER;CN="Students' Union":MAILTO:reception@su.ucalgary.ca
END:VEVENT
BEGIN:VEVENT
DTSTART;TZID=America/Edmonton:20240229T120000
DTEND;TZID=America/Edmonton:20240229T130000
DTSTAMP:20260420T160055
CREATED:20240226T171624Z
LAST-MODIFIED:20240226T171624Z
UID:10000798-1709208000-1709211600@su.ucalgary.ca
SUMMARY:VP Internal Forum
DESCRIPTION:
URL:https://su.ucalgary.ca/calendar/vp-internal-forum/
CATEGORIES:Elections
ORGANIZER;CN="Students' Union":MAILTO:reception@su.ucalgary.ca
END:VEVENT
BEGIN:VEVENT
DTSTART;TZID=America/Edmonton:20240301T120000
DTEND;TZID=America/Edmonton:20240301T130000
DTSTAMP:20260420T160055
CREATED:20240226T171653Z
LAST-MODIFIED:20240226T171653Z
UID:10000799-1709294400-1709298000@su.ucalgary.ca
SUMMARY:VP Academic Forum
DESCRIPTION:
URL:https://su.ucalgary.ca/calendar/vp-academic-forum-2/
CATEGORIES:Elections
ORGANIZER;CN="Students' Union":MAILTO:reception@su.ucalgary.ca
END:VEVENT
END:VCALENDAR