BEGIN:VCALENDAR
VERSION:2.0
PRODID:-//Students&#039; Union, UCalgary - ECPv6.15.17.1//NONSGML v1.0//EN
CALSCALE:GREGORIAN
METHOD:PUBLISH
X-WR-CALNAME:Students&#039; Union, UCalgary
X-ORIGINAL-URL:https://su.ucalgary.ca
X-WR-CALDESC:Events for Students&#039; Union, UCalgary
REFRESH-INTERVAL;VALUE=DURATION:PT1H
X-Robots-Tag:noindex
X-PUBLISHED-TTL:PT1H
BEGIN:VTIMEZONE
TZID:America/Edmonton
BEGIN:DAYLIGHT
TZOFFSETFROM:-0700
TZOFFSETTO:-0600
TZNAME:MDT
DTSTART:20230312T090000
END:DAYLIGHT
BEGIN:STANDARD
TZOFFSETFROM:-0600
TZOFFSETTO:-0700
TZNAME:MST
DTSTART:20231105T080000
END:STANDARD
BEGIN:DAYLIGHT
TZOFFSETFROM:-0700
TZOFFSETTO:-0600
TZNAME:MDT
DTSTART:20240310T090000
END:DAYLIGHT
BEGIN:STANDARD
TZOFFSETFROM:-0600
TZOFFSETTO:-0700
TZNAME:MST
DTSTART:20241103T080000
END:STANDARD
BEGIN:DAYLIGHT
TZOFFSETFROM:-0700
TZOFFSETTO:-0600
TZNAME:MDT
DTSTART:20250309T090000
END:DAYLIGHT
BEGIN:STANDARD
TZOFFSETFROM:-0600
TZOFFSETTO:-0700
TZNAME:MST
DTSTART:20251102T080000
END:STANDARD
END:VTIMEZONE
BEGIN:VEVENT
DTSTART;VALUE=DATE:20241008
DTEND;VALUE=DATE:20241009
DTSTAMP:20260420T045829
CREATED:20240903T151746Z
LAST-MODIFIED:20240903T151825Z
UID:10000829-1728345600-1728431999@su.ucalgary.ca
SUMMARY:By-Election 2024: VOTING DAY
DESCRIPTION:VOTE NOW in the SU By-Election and Referendum: https://su.ucalgary.ca/about/elections/
URL:https://su.ucalgary.ca/calendar/by-election-2024-voting-day/2024-10-08/
LOCATION:Virtual Space\, Online
CATEGORIES:Elections,SU
ORGANIZER;CN="Students' Union":MAILTO:reception@su.ucalgary.ca
END:VEVENT
BEGIN:VEVENT
DTSTART;VALUE=DATE:20241009
DTEND;VALUE=DATE:20241010
DTSTAMP:20260420T045829
CREATED:20240903T151746Z
LAST-MODIFIED:20240903T151825Z
UID:10000830-1728432000-1728518399@su.ucalgary.ca
SUMMARY:By-Election 2024: VOTING DAY
DESCRIPTION:VOTE NOW in the SU By-Election and Referendum: https://su.ucalgary.ca/about/elections/
URL:https://su.ucalgary.ca/calendar/by-election-2024-voting-day/2024-10-09/
LOCATION:Virtual Space\, Online
CATEGORIES:Elections,SU
ORGANIZER;CN="Students' Union":MAILTO:reception@su.ucalgary.ca
END:VEVENT
BEGIN:VEVENT
DTSTART;TZID=America/Edmonton:20241009T120000
DTEND;TZID=America/Edmonton:20241009T133000
DTSTAMP:20260420T045829
CREATED:20240923T212823Z
LAST-MODIFIED:20250818T153839Z
UID:10001207-1728475200-1728480600@su.ucalgary.ca
SUMMARY:Pet Therapy: Stress Less
DESCRIPTION:Your favourite diversion from everyday stress\, also know as the “Puppy Room”\, is here again. Come make a new canine (and sometimes feline) friends in That Empty Space\, located in the lower level of MacEwan Student Centre.
URL:https://su.ucalgary.ca/calendar/pet-therapy-8/2024-10-09/
LOCATION:That Empty Space: TES
CATEGORIES:Stress Less,SU
ORGANIZER;CN="Students' Union":MAILTO:reception@su.ucalgary.ca
END:VEVENT
BEGIN:VEVENT
DTSTART;TZID=America/Edmonton:20241010T080000
DTEND;TZID=America/Edmonton:20241010T160000
DTSTAMP:20260420T045829
CREATED:20240903T152236Z
LAST-MODIFIED:20240903T152236Z
UID:10001196-1728547200-1728576000@su.ucalgary.ca
SUMMARY:By-Election 2024: VOTING DAY
DESCRIPTION:VOTE NOW in the SU By-Election and Referendum: https://su.ucalgary.ca/about/elections/
URL:https://su.ucalgary.ca/calendar/by-election-2024-voting-day-2/
LOCATION:Virtual Space\, Online
CATEGORIES:Elections,SU
ORGANIZER;CN="Students' Union":MAILTO:reception@su.ucalgary.ca
END:VEVENT
BEGIN:VEVENT
DTSTART;TZID=America/Edmonton:20241010T170000
DTEND;TZID=America/Edmonton:20241010T173000
DTSTAMP:20260420T045829
CREATED:20240903T152603Z
LAST-MODIFIED:20240903T152603Z
UID:10001197-1728579600-1728581400@su.ucalgary.ca
SUMMARY:By-Election 2024: Unofficial Results Announcement
DESCRIPTION:Unofficial results will be presented on the South Courtyard stage in MacEwan Student Centre. The Official results will be announced after the 2-week review period. Information will be posted here: https://su.ucalgary.ca/about/elections/
URL:https://su.ucalgary.ca/calendar/by-election-2024-unofficial-results-announcement/
LOCATION:South Courtyard: MSC
CATEGORIES:Elections,SU
ORGANIZER;CN="Students' Union":MAILTO:reception@su.ucalgary.ca
GEO:51.0780322578;-114.131684009
END:VEVENT
END:VCALENDAR